BEGIN:VCALENDAR
VERSION:2.0
PRODID:-//Rotherham Federation - ECPv6.6.3//NONSGML v1.0//EN
CALSCALE:GREGORIAN
METHOD:PUBLISH
X-ORIGINAL-URL:https://www.rotherhamfederation.org
X-WR-CALDESC:Events for Rotherham Federation
REFRESH-INTERVAL;VALUE=DURATION:PT1H
X-Robots-Tag:noindex
X-PUBLISHED-TTL:PT1H
BEGIN:VTIMEZONE
TZID:Europe/London
BEGIN:DAYLIGHT
TZOFFSETFROM:+0000
TZOFFSETTO:+0100
TZNAME:BST
DTSTART:20200329T010000
END:DAYLIGHT
BEGIN:STANDARD
TZOFFSETFROM:+0100
TZOFFSETTO:+0000
TZNAME:GMT
DTSTART:20201025T010000
END:STANDARD
END:VTIMEZONE
BEGIN:VEVENT
DTSTART;TZID=Europe/London:20200408T130000
DTEND;TZID=Europe/London:20200408T160000
DTSTAMP:20260421T201044
CREATED:20200313T135547Z
LAST-MODIFIED:20200313T135547Z
UID:4191-1586350800-1586361600@www.rotherhamfederation.org
SUMMARY:East Dene - Join the Conversation
DESCRIPTION:East Dene residents can attend St James Church on the second Wednesday of every month between 1pm and 4pm for a casual chat on how to work together
URL:https://www.rotherhamfederation.org/event/east-dene-join-the-conversation/
LOCATION:St James Church\, Cambridge Street\, Rotherham\, S65 2SX
CATEGORIES:Drop In,Meeting
END:VEVENT
END:VCALENDAR