BEGIN:VCALENDAR
VERSION:2.0
PRODID:-//Rotherham Federation - ECPv6.6.3//NONSGML v1.0//EN
CALSCALE:GREGORIAN
METHOD:PUBLISH
X-WR-CALNAME:Rotherham Federation
X-ORIGINAL-URL:https://www.rotherhamfederation.org
X-WR-CALDESC:Events for Rotherham Federation
REFRESH-INTERVAL;VALUE=DURATION:PT1H
X-Robots-Tag:noindex
X-PUBLISHED-TTL:PT1H
BEGIN:VTIMEZONE
TZID:Europe/London
BEGIN:DAYLIGHT
TZOFFSETFROM:+0000
TZOFFSETTO:+0100
TZNAME:BST
DTSTART:20200329T010000
END:DAYLIGHT
BEGIN:STANDARD
TZOFFSETFROM:+0100
TZOFFSETTO:+0000
TZNAME:GMT
DTSTART:20201025T010000
END:STANDARD
END:VTIMEZONE
BEGIN:VEVENT
DTSTART;TZID=Europe/London:20200318T103000
DTEND;TZID=Europe/London:20200318T113000
DTSTAMP:20260421T183915
CREATED:20200116T140504Z
LAST-MODIFIED:20200313T114625Z
UID:3351-1584527400-1584531000@www.rotherhamfederation.org
SUMMARY:Aston TARA Coffee Morning
DESCRIPTION:Everyone is welcome to join Aston TARA for their monthly coffee morning
URL:https://www.rotherhamfederation.org/event/aston-tara-coffee-morning-2/
LOCATION:Hepworth Drive Community Centre\, Hepworth Drive\, Sheffield\, S26 4NA
CATEGORIES:Community Group
END:VEVENT
END:VCALENDAR