BEGIN:VCALENDAR
VERSION:2.0
PRODID:-//Rotherham Federation - ECPv6.6.3//NONSGML v1.0//EN
CALSCALE:GREGORIAN
METHOD:PUBLISH
X-WR-CALNAME:Rotherham Federation
X-ORIGINAL-URL:https://www.rotherhamfederation.org
X-WR-CALDESC:Events for Rotherham Federation
REFRESH-INTERVAL;VALUE=DURATION:PT1H
X-Robots-Tag:noindex
X-PUBLISHED-TTL:PT1H
BEGIN:VTIMEZONE
TZID:Europe/London
BEGIN:DAYLIGHT
TZOFFSETFROM:+0000
TZOFFSETTO:+0100
TZNAME:BST
DTSTART:20200329T010000
END:DAYLIGHT
BEGIN:STANDARD
TZOFFSETFROM:+0100
TZOFFSETTO:+0000
TZNAME:GMT
DTSTART:20201025T010000
END:STANDARD
END:VTIMEZONE
BEGIN:VEVENT
DTSTART;TZID=Europe/London:20200501T100000
DTEND;TZID=Europe/London:20200501T150000
DTSTAMP:20260421T200730
CREATED:20200124T121339Z
LAST-MODIFIED:20200313T121236Z
UID:3477-1588327200-1588345200@www.rotherhamfederation.org
SUMMARY:Rotherham Deaf Futures - Deaf Social
DESCRIPTION:Rotherham Deaf Futures are holding their Deaf Social sessions on Fridays at Springwell Gardens Community Centre\, 10am – 3pm.
URL:https://www.rotherhamfederation.org/event/rotherham-deaf-futures-deaf-social-43/
LOCATION:Springwell Gardens Community Centre\, Eastwood View\, Rotherham\, South Yorkshire\, S65 1NH\, United Kingdom
CATEGORIES:Community Group
END:VEVENT
BEGIN:VEVENT
DTSTART;TZID=Europe/London:20200505T120000
DTEND;TZID=Europe/London:20200505T140000
DTSTAMP:20260421T200730
CREATED:20200306T142329Z
LAST-MODIFIED:20200306T142416Z
UID:4100-1588680000-1588687200@www.rotherhamfederation.org
SUMMARY:Mowbray Musers Writing Group
DESCRIPTION:Mowbray Musers is a relaxed and friendly writing group suitable for everyone. The group meets twice per month on the 1st and 3rd Tuesday between 12 – 2pm at Mowbray Gardens Library. \nEveryone is welcome!
URL:https://www.rotherhamfederation.org/event/mowbray-musers-writing-group-5/
LOCATION:Mowbray Gardens Library\, Rotherham\, S65 2UJ
CATEGORIES:Community Group
END:VEVENT
BEGIN:VEVENT
DTSTART;TZID=Europe/London:20200513T130000
DTEND;TZID=Europe/London:20200513T160000
DTSTAMP:20260421T200730
CREATED:20200313T140315Z
LAST-MODIFIED:20200313T140315Z
UID:4196-1589374800-1589385600@www.rotherhamfederation.org
SUMMARY:East Dene - Join the Conversation
DESCRIPTION:East Dene residents can attend St James Church on the second Wednesday of every month between 1pm and 4pm for a casual chat on how to work together.
URL:https://www.rotherhamfederation.org/event/east-dene-join-the-conversation-2/
LOCATION:St James Church\, Cambridge Street\, Rotherham\, S65 2SX
CATEGORIES:Drop In,Meeting
END:VEVENT
BEGIN:VEVENT
DTSTART;TZID=Europe/London:20200515T100000
DTEND;TZID=Europe/London:20200515T150000
DTSTAMP:20260421T200730
CREATED:20200124T121637Z
LAST-MODIFIED:20200313T121458Z
UID:3481-1589536800-1589554800@www.rotherhamfederation.org
SUMMARY:Rotherham Deaf Futures - Deaf Social
DESCRIPTION:Rotherham Deaf Futures are holding their Deaf Social sessions on Fridays at Springwell Gardens Community Centre\, 10am – 3pm.
URL:https://www.rotherhamfederation.org/event/rotherham-deaf-futures-deaf-social-45/
LOCATION:Springwell Gardens Community Centre\, Eastwood View\, Rotherham\, South Yorkshire\, S65 1NH\, United Kingdom
CATEGORIES:Community Group
END:VEVENT
BEGIN:VEVENT
DTSTART;TZID=Europe/London:20200519T120000
DTEND;TZID=Europe/London:20200519T140000
DTSTAMP:20260421T200730
CREATED:20200306T142620Z
LAST-MODIFIED:20200306T142620Z
UID:4103-1589889600-1589896800@www.rotherhamfederation.org
SUMMARY:Mowbray Musers Writing Group
DESCRIPTION:Mowbray Musers is a relaxed and friendly writing group suitable for everyone. The group meets twice per month on the 1st and 3rd Tuesday between 12 – 2pm at Mowbray Gardens Library. \nEveryone is welcome!
URL:https://www.rotherhamfederation.org/event/mowbray-musers-writing-group-6/
LOCATION:Mowbray Gardens Library\, Rotherham\, S65 2UJ
CATEGORIES:Community Group
END:VEVENT
END:VCALENDAR