BEGIN:VCALENDAR
VERSION:2.0
PRODID:-//Rotherham Federation - ECPv6.6.3//NONSGML v1.0//EN
CALSCALE:GREGORIAN
METHOD:PUBLISH
X-WR-CALNAME:Rotherham Federation
X-ORIGINAL-URL:https://www.rotherhamfederation.org
X-WR-CALDESC:Events for Rotherham Federation
REFRESH-INTERVAL;VALUE=DURATION:PT1H
X-Robots-Tag:noindex
X-PUBLISHED-TTL:PT1H
BEGIN:VTIMEZONE
TZID:Europe/London
BEGIN:DAYLIGHT
TZOFFSETFROM:+0000
TZOFFSETTO:+0100
TZNAME:BST
DTSTART:20200329T010000
END:DAYLIGHT
BEGIN:STANDARD
TZOFFSETFROM:+0100
TZOFFSETTO:+0000
TZNAME:GMT
DTSTART:20201025T010000
END:STANDARD
END:VTIMEZONE
BEGIN:VEVENT
DTSTART;TZID=Europe/London:20200422T130000
DTEND;TZID=Europe/London:20200422T160000
DTSTAMP:20260421T231223
CREATED:20200313T160258Z
LAST-MODIFIED:20200313T160630Z
UID:4220-1587560400-1587571200@www.rotherhamfederation.org
SUMMARY:Masbrough - Join the Conversation
DESCRIPTION:Masbrough residents can attend Henley Community Centre on the fourth Wednesday of every month between 1pm and 4pm for a casual chat on how to work together.
URL:https://www.rotherhamfederation.org/event/masbrough-join-the-conversation-2/
LOCATION:Henley Community Centre\, Oates Close\, Rotherham\, South Yorkshire\, S61 1TP\, United Kingdom
CATEGORIES:Drop In,Meeting
ORGANIZER;CN="Brandon Freeman":MAILTO:brandon.freeman@rotherfed.org
END:VEVENT
END:VCALENDAR