BEGIN:VCALENDAR
VERSION:2.0
PRODID:-//Rotherham Federation - ECPv6.6.3//NONSGML v1.0//EN
CALSCALE:GREGORIAN
METHOD:PUBLISH
X-ORIGINAL-URL:https://www.rotherhamfederation.org
X-WR-CALDESC:Events for Rotherham Federation
REFRESH-INTERVAL;VALUE=DURATION:PT1H
X-Robots-Tag:noindex
X-PUBLISHED-TTL:PT1H
BEGIN:VTIMEZONE
TZID:Europe/London
BEGIN:DAYLIGHT
TZOFFSETFROM:+0000
TZOFFSETTO:+0100
TZNAME:BST
DTSTART:20200329T010000
END:DAYLIGHT
BEGIN:STANDARD
TZOFFSETFROM:+0100
TZOFFSETTO:+0000
TZNAME:GMT
DTSTART:20201025T010000
END:STANDARD
END:VTIMEZONE
BEGIN:VEVENT
DTSTART;TZID=Europe/London:20200403T100000
DTEND;TZID=Europe/London:20200403T150000
DTSTAMP:20260422T013147
CREATED:20200124T120339Z
LAST-MODIFIED:20200313T115321Z
UID:3469-1585908000-1585926000@www.rotherhamfederation.org
SUMMARY:Rotherham Deaf Futures - Deaf Social
DESCRIPTION:Rotherham Deaf Futures are holding their Deaf Social sessions on Fridays at Springwell Gardens Community Centre\, 10am – 3pm.
URL:https://www.rotherhamfederation.org/event/rotherham-deaf-futures-deaf-social-39/
LOCATION:Springwell Gardens Community Centre\, Eastwood View\, Rotherham\, South Yorkshire\, S65 1NH\, United Kingdom
CATEGORIES:Community Group
END:VEVENT
BEGIN:VEVENT
DTSTART;TZID=Europe/London:20200417T100000
DTEND;TZID=Europe/London:20200417T150000
DTSTAMP:20260422T013147
CREATED:20200124T120917Z
LAST-MODIFIED:20200313T121010Z
UID:3473-1587117600-1587135600@www.rotherhamfederation.org
SUMMARY:Rotherham Deaf Futures - Deaf Social
DESCRIPTION:Rotherham Deaf Futures are holding their Deaf Social sessions on Fridays at Springwell Gardens Community Centre\, 10am – 3pm.
URL:https://www.rotherhamfederation.org/event/rotherham-deaf-futures-deaf-social-41/
LOCATION:Springwell Gardens Community Centre\, Eastwood View\, Rotherham\, South Yorkshire\, S65 1NH\, United Kingdom
CATEGORIES:Community Group
END:VEVENT
BEGIN:VEVENT
DTSTART;TZID=Europe/London:20200424T100000
DTEND;TZID=Europe/London:20200424T150000
DTSTAMP:20260422T013147
CREATED:20200124T121023Z
LAST-MODIFIED:20200313T121143Z
UID:3475-1587722400-1587740400@www.rotherhamfederation.org
SUMMARY:Rotherham Deaf Futures - Deaf Social
DESCRIPTION:Rotherham Deaf Futures are holding their Deaf Social sessions on Fridays at Springwell Gardens Community Centre\, 10am – 3pm.
URL:https://www.rotherhamfederation.org/event/rotherham-deaf-futures-deaf-social-42/
LOCATION:Springwell Gardens Community Centre\, Eastwood View\, Rotherham\, South Yorkshire\, S65 1NH\, United Kingdom
CATEGORIES:Community Group
END:VEVENT
END:VCALENDAR