BEGIN:VCALENDAR
VERSION:2.0
PRODID:-//Rotherham Federation - ECPv6.6.3//NONSGML v1.0//EN
CALSCALE:GREGORIAN
METHOD:PUBLISH
X-WR-CALNAME:Rotherham Federation
X-ORIGINAL-URL:https://www.rotherhamfederation.org
X-WR-CALDESC:Events for Rotherham Federation
REFRESH-INTERVAL;VALUE=DURATION:PT1H
X-Robots-Tag:noindex
X-PUBLISHED-TTL:PT1H
BEGIN:VTIMEZONE
TZID:Europe/London
BEGIN:DAYLIGHT
TZOFFSETFROM:+0000
TZOFFSETTO:+0100
TZNAME:BST
DTSTART:20190331T010000
END:DAYLIGHT
BEGIN:STANDARD
TZOFFSETFROM:+0100
TZOFFSETTO:+0000
TZNAME:GMT
DTSTART:20191027T010000
END:STANDARD
BEGIN:DAYLIGHT
TZOFFSETFROM:+0000
TZOFFSETTO:+0100
TZNAME:BST
DTSTART:20200329T010000
END:DAYLIGHT
BEGIN:STANDARD
TZOFFSETFROM:+0100
TZOFFSETTO:+0000
TZNAME:GMT
DTSTART:20201025T010000
END:STANDARD
END:VTIMEZONE
BEGIN:VEVENT
DTSTART;TZID=Europe/London:20191204T160000
DTEND;TZID=Europe/London:20191204T190000
DTSTAMP:20260424T151634
CREATED:20190627T082050Z
LAST-MODIFIED:20190627T082050Z
UID:2320-1575475200-1575486000@www.rotherhamfederation.org
SUMMARY:Nutty Crafters - Crafts Session
DESCRIPTION:The Nutty Crafters group will be holding their craft sessions EVERY Wednesday 4pm – 7pm. \nThere is a £2 charge per person per session which includes refreshments.
URL:https://www.rotherhamfederation.org/event/nutty-crafters-crafts-session-19/
LOCATION:Glencairn Community Centre\, S66 7SQ
END:VEVENT
BEGIN:VEVENT
DTSTART;TZID=Europe/London:20191206T100000
DTEND;TZID=Europe/London:20191206T150000
DTSTAMP:20260424T151634
CREATED:20190621T123511Z
LAST-MODIFIED:20190621T123511Z
UID:2255-1575626400-1575644400@www.rotherhamfederation.org
SUMMARY:Rotherham Deaf Futures - Deaf Social
DESCRIPTION:Rotherham Deaf Futures are holding their Deaf Social sessions on Fridays at Springwell Gardens Community Centre\, 10am – 3pm.
URL:https://www.rotherhamfederation.org/event/rotherham-deaf-futures-deaf-social-23/
LOCATION:Springwell Gardens Community Centre\, Eastwood View\, Rotherham\, South Yorkshire\, S65 1NH\, United Kingdom
END:VEVENT
BEGIN:VEVENT
DTSTART;TZID=Europe/London:20191207T100000
DTEND;TZID=Europe/London:20191207T110000
DTSTAMP:20260424T151634
CREATED:20191029T150801Z
LAST-MODIFIED:20191029T150801Z
UID:2763-1575712800-1575716400@www.rotherhamfederation.org
SUMMARY:Dinnington Junior Boxing Fitness
DESCRIPTION:Junior Boxing fitness will take place every Saturday in November and December\, 10am – 11am. \nFree Entry. \nPlaces must be booked\, contact dcrobinson95@outlook.com to book your place
URL:https://www.rotherhamfederation.org/event/dinnington-junior-boxing-fitness-6/
LOCATION:High Nook Community Centre
END:VEVENT
BEGIN:VEVENT
DTSTART;TZID=Europe/London:20191207T110000
DTEND;TZID=Europe/London:20191207T140000
DTSTAMP:20260424T151634
CREATED:20191121T115612Z
LAST-MODIFIED:20191121T115612Z
UID:2790-1575716400-1575727200@www.rotherhamfederation.org
SUMMARY:Aston TARA Christmas Fun
DESCRIPTION:
URL:https://www.rotherhamfederation.org/event/aston-tara-christmas-fun/
LOCATION:Hepworth Drive Community Centre\, Hepworth Drive\, Sheffield\, S26 4NA
END:VEVENT
BEGIN:VEVENT
DTSTART;TZID=Europe/London:20191207T120000
DTEND;TZID=Europe/London:20191207T150000
DTSTAMP:20260424T151634
CREATED:20191121T125156Z
LAST-MODIFIED:20191121T125156Z
UID:2798-1575720000-1575730800@www.rotherhamfederation.org
SUMMARY:Christmas Fair at Catcliffe Memorial Hall
DESCRIPTION:Proceeds to Cystic Fibrosis and Spina Bifida.
URL:https://www.rotherhamfederation.org/event/christmas-fair-at-catcliffe-memorial-hall/
LOCATION:Catcliffe Memorial Hall
END:VEVENT
BEGIN:VEVENT
DTSTART;TZID=Europe/London:20191209T103000
DTEND;TZID=Europe/London:20191209T123000
DTSTAMP:20260424T151634
CREATED:20190621T095919Z
LAST-MODIFIED:20190621T095919Z
UID:2215-1575887400-1575894600@www.rotherhamfederation.org
SUMMARY:Tenant Scrutiny Meeting
DESCRIPTION:The tenant scrutiny meeting will be held on Monday 9th December 2019\, 10:30am at Springwell Gardens Community Centre.
URL:https://www.rotherhamfederation.org/event/tenant-scrutiny-meeting-8/
LOCATION:Springwell Gardens Community Centre\, Eastwood View\, Rotherham\, South Yorkshire\, S65 1NH\, United Kingdom
END:VEVENT
BEGIN:VEVENT
DTSTART;TZID=Europe/London:20191211T160000
DTEND;TZID=Europe/London:20191211T190000
DTSTAMP:20260424T151634
CREATED:20190627T082149Z
LAST-MODIFIED:20190627T082149Z
UID:2322-1576080000-1576090800@www.rotherhamfederation.org
SUMMARY:Nutty Crafters - Crafts Session
DESCRIPTION:The Nutty Crafters group will be holding their craft sessions EVERY Wednesday 4pm – 7pm. \nThere is a £2 charge per person per session which includes refreshments.
URL:https://www.rotherhamfederation.org/event/nutty-crafters-crafts-session-20/
LOCATION:Glencairn Community Centre\, S66 7SQ
END:VEVENT
BEGIN:VEVENT
DTSTART;TZID=Europe/London:20191213T100000
DTEND;TZID=Europe/London:20191213T150000
DTSTAMP:20260424T151634
CREATED:20190621T130736Z
LAST-MODIFIED:20190621T130736Z
UID:2257-1576231200-1576249200@www.rotherhamfederation.org
SUMMARY:Rotherham Deaf Futures - Deaf Social
DESCRIPTION:Rotherham Deaf Futures are holding their Deaf Social sessions on Fridays at Springwell Gardens Community Centre\, 10am – 3pm.
URL:https://www.rotherhamfederation.org/event/rotherham-deaf-futures-deaf-social-24/
LOCATION:Springwell Gardens Community Centre\, Eastwood View\, Rotherham\, South Yorkshire\, S65 1NH\, United Kingdom
END:VEVENT
BEGIN:VEVENT
DTSTART;TZID=Europe/London:20191214T100000
DTEND;TZID=Europe/London:20191214T110000
DTSTAMP:20260424T151634
CREATED:20191029T150938Z
LAST-MODIFIED:20191029T150938Z
UID:2765-1576317600-1576321200@www.rotherhamfederation.org
SUMMARY:Dinnington Junior Boxing Fitness
DESCRIPTION:Junior Boxing fitness will take place every Saturday in November and December\, 10am – 11am. \nFree Entry. \nPlaces must be booked\, contact dcrobinson95@outlook.com to book your place
URL:https://www.rotherhamfederation.org/event/dinnington-junior-boxing-fitness-7/
LOCATION:High Nook Community Centre
END:VEVENT
BEGIN:VEVENT
DTSTART;TZID=Europe/London:20191218T160000
DTEND;TZID=Europe/London:20191218T190000
DTSTAMP:20260424T151634
CREATED:20190627T082317Z
LAST-MODIFIED:20190627T082317Z
UID:2324-1576684800-1576695600@www.rotherhamfederation.org
SUMMARY:Nutty Crafters - Crafts Session
DESCRIPTION:The Nutty Crafters group will be holding their craft sessions EVERY Wednesday 4pm – 7pm. \nThere is a £2 charge per person per session which includes refreshments.
URL:https://www.rotherhamfederation.org/event/nutty-crafters-crafts-session-21/
LOCATION:Glencairn Community Centre\, S66 7SQ
END:VEVENT
BEGIN:VEVENT
DTSTART;TZID=Europe/London:20191220T100000
DTEND;TZID=Europe/London:20191220T150000
DTSTAMP:20260424T151634
CREATED:20190621T131022Z
LAST-MODIFIED:20190621T131152Z
UID:2259-1576836000-1576854000@www.rotherhamfederation.org
SUMMARY:Rotherham Deaf Futures - Deaf Social
DESCRIPTION:Rotherham Deaf Futures are holding their Deaf Social sessions on Fridays at Springwell Gardens Community Centre\, 10am – 3pm. \nThis is the last session of 2019. 
URL:https://www.rotherhamfederation.org/event/rotherham-deaf-futures-deaf-social-25/
LOCATION:Springwell Gardens Community Centre\, Eastwood View\, Rotherham\, South Yorkshire\, S65 1NH\, United Kingdom
END:VEVENT
BEGIN:VEVENT
DTSTART;TZID=Europe/London:20191221T100000
DTEND;TZID=Europe/London:20191221T110000
DTSTAMP:20260424T151634
CREATED:20191029T151045Z
LAST-MODIFIED:20191029T151045Z
UID:2767-1576922400-1576926000@www.rotherhamfederation.org
SUMMARY:Dinnington Junior Boxing Fitness
DESCRIPTION:Junior Boxing fitness will take place every Saturday in November and December\, 10am – 11am. \nFree Entry. \nPlaces must be booked\, contact dcrobinson95@outlook.com to book your place
URL:https://www.rotherhamfederation.org/event/dinnington-junior-boxing-fitness-8/
LOCATION:High Nook Community Centre
END:VEVENT
BEGIN:VEVENT
DTSTART;TZID=Europe/London:20191223T140000
DTEND;TZID=Europe/London:20191223T160000
DTSTAMP:20260424T151634
CREATED:20191121T125439Z
LAST-MODIFIED:20191121T125439Z
UID:2802-1577109600-1577116800@www.rotherhamfederation.org
SUMMARY:Santa at Springwell
DESCRIPTION:This event is now SOLD OUT.  Entry will be by ticket only
URL:https://www.rotherhamfederation.org/event/santa-at-springwell/
LOCATION:Springwell Gardens Community Centre\, Eastwood View\, Rotherham\, South Yorkshire\, S65 1NH\, United Kingdom
END:VEVENT
BEGIN:VEVENT
DTSTART;TZID=Europe/London:20191224T130000
DTEND;TZID=Europe/London:20191224T235900
DTSTAMP:20260424T151634
CREATED:20191206T113332Z
LAST-MODIFIED:20191206T113524Z
UID:2814-1577192400-1577231940@www.rotherhamfederation.org
SUMMARY:From 1pm Rotherham Federation is Closed
DESCRIPTION:Rotherham Federation is closed from 1pm on Tuesday 24th December for Christmas and the new year.
URL:https://www.rotherhamfederation.org/event/from-1pm-the-rotherham-federation-office-is-closed/
LOCATION:South Yorkshire
END:VEVENT
BEGIN:VEVENT
DTSTART;VALUE=DATE:20191225
DTEND;VALUE=DATE:20200102
DTSTAMP:20260424T151634
CREATED:20190621T132801Z
LAST-MODIFIED:20190621T132801Z
UID:2261-1577232000-1577923199@www.rotherhamfederation.org
SUMMARY:Rotherham Federation is Closed
DESCRIPTION:Rotherham Federation is closed for Christmas and the new year. \n 
URL:https://www.rotherhamfederation.org/event/rotherham-federation-is-closed-4/
LOCATION:South Yorkshire
END:VEVENT
BEGIN:VEVENT
DTSTART;TZID=Europe/London:20191228T100000
DTEND;TZID=Europe/London:20191228T110000
DTSTAMP:20260424T151634
CREATED:20191029T151203Z
LAST-MODIFIED:20191029T151203Z
UID:2769-1577527200-1577530800@www.rotherhamfederation.org
SUMMARY:Dinnington Junior Boxing Fitness
DESCRIPTION:Junior Boxing fitness will take place every Saturday in November and December\, 10am – 11am. \nFree Entry. \nPlaces must be booked\, contact dcrobinson95@outlook.com to book your place
URL:https://www.rotherhamfederation.org/event/dinnington-junior-boxing-fitness-9/
LOCATION:High Nook Community Centre
END:VEVENT
END:VCALENDAR