BEGIN:VCALENDAR
VERSION:2.0
PRODID:-//Rotherham Federation - ECPv6.6.3//NONSGML v1.0//EN
CALSCALE:GREGORIAN
METHOD:PUBLISH
X-WR-CALNAME:Rotherham Federation
X-ORIGINAL-URL:https://www.rotherhamfederation.org
X-WR-CALDESC:Events for Rotherham Federation
REFRESH-INTERVAL;VALUE=DURATION:PT1H
X-Robots-Tag:noindex
X-PUBLISHED-TTL:PT1H
BEGIN:VTIMEZONE
TZID:Europe/London
BEGIN:DAYLIGHT
TZOFFSETFROM:+0000
TZOFFSETTO:+0100
TZNAME:BST
DTSTART:20190331T010000
END:DAYLIGHT
BEGIN:STANDARD
TZOFFSETFROM:+0100
TZOFFSETTO:+0000
TZNAME:GMT
DTSTART:20191027T010000
END:STANDARD
END:VTIMEZONE
BEGIN:VEVENT
DTSTART;TZID=Europe/London:20190904T160000
DTEND;TZID=Europe/London:20190904T190000
DTSTAMP:20260424T194252
CREATED:20190626T133334Z
LAST-MODIFIED:20190626T133334Z
UID:2292-1567612800-1567623600@www.rotherhamfederation.org
SUMMARY:Nutty Crafters - Crafts Session
DESCRIPTION:The Nutty Crafters group will be holding their craft sessions EVERY Wednesday 4pm – 7pm. \nThere is a £2 charge per person per session which includes refreshments.
URL:https://www.rotherhamfederation.org/event/nutty-crafters-crafts-session-9/
LOCATION:Glencairn Community Centre\, S66 7SQ
END:VEVENT
BEGIN:VEVENT
DTSTART;TZID=Europe/London:20190906T100000
DTEND;TZID=Europe/London:20190906T150000
DTSTAMP:20260424T194252
CREATED:20190621T105254Z
LAST-MODIFIED:20190621T105313Z
UID:2229-1567764000-1567782000@www.rotherhamfederation.org
SUMMARY:Rotherham Deaf Futures - Deaf Social
DESCRIPTION:Rotherham Deaf Futures are holding their Deaf Social sessions on Fridays at Springwell Gardens Community Centre\, 10am – 3pm.
URL:https://www.rotherhamfederation.org/event/rotherham-deaf-futures-deaf-social-11/
LOCATION:Springwell Gardens Community Centre\, Eastwood View\, Rotherham\, South Yorkshire\, S65 1NH\, United Kingdom
END:VEVENT
BEGIN:VEVENT
DTSTART;VALUE=DATE:20190907
DTEND;VALUE=DATE:20190909
DTSTAMP:20260424T194252
CREATED:20190612T142228Z
LAST-MODIFIED:20190612T142438Z
UID:2165-1567814400-1567987199@www.rotherhamfederation.org
SUMMARY:Rotherham Show
DESCRIPTION:The Rotherham show will be taking place on Saturday 7th and Sunday 8th September \nYou can find us in the Housing Hub
URL:https://www.rotherhamfederation.org/event/rotherham-show/
LOCATION:Clifton Park\, Rotherham\, S65 2BH
END:VEVENT
BEGIN:VEVENT
DTSTART;TZID=Europe/London:20190909T103000
DTEND;TZID=Europe/London:20190909T123000
DTSTAMP:20260424T194252
CREATED:20190621T095114Z
LAST-MODIFIED:20190621T095114Z
UID:2209-1568025000-1568032200@www.rotherhamfederation.org
SUMMARY:Tenant Scrutiny Meeting
DESCRIPTION:The tenant scrutiny meeting will be held on Monday 9th September 2019\, 10:30am at Springwell Gardens Community Centre.
URL:https://www.rotherhamfederation.org/event/tenant-scrutiny-meeting-5/
LOCATION:Springwell Gardens Community Centre\, Eastwood View\, Rotherham\, South Yorkshire\, S65 1NH\, United Kingdom
END:VEVENT
BEGIN:VEVENT
DTSTART;TZID=Europe/London:20190911T160000
DTEND;TZID=Europe/London:20190911T190000
DTSTAMP:20260424T194252
CREATED:20190626T133433Z
LAST-MODIFIED:20190626T133433Z
UID:2294-1568217600-1568228400@www.rotherhamfederation.org
SUMMARY:Nutty Crafters - Crafts Session
DESCRIPTION:The Nutty Crafters group will be holding their craft sessions EVERY Wednesday 4pm – 7pm. \nThere is a £2 charge per person per session which includes refreshments.
URL:https://www.rotherhamfederation.org/event/nutty-crafters-crafts-session-10/
LOCATION:Glencairn Community Centre\, S66 7SQ
END:VEVENT
BEGIN:VEVENT
DTSTART;TZID=Europe/London:20190913T100000
DTEND;TZID=Europe/London:20190913T150000
DTSTAMP:20260424T194252
CREATED:20190621T105420Z
LAST-MODIFIED:20190621T105420Z
UID:2231-1568368800-1568386800@www.rotherhamfederation.org
SUMMARY:Rotherham Deaf Futures - Deaf Social
DESCRIPTION:Rotherham Deaf Futures are holding their Deaf Social sessions on Fridays at Springwell Gardens Community Centre\, 10am – 3pm.
URL:https://www.rotherhamfederation.org/event/rotherham-deaf-futures-deaf-social-12/
LOCATION:Springwell Gardens Community Centre\, Eastwood View\, Rotherham\, South Yorkshire\, S65 1NH\, United Kingdom
END:VEVENT
BEGIN:VEVENT
DTSTART;TZID=Europe/London:20190918T160000
DTEND;TZID=Europe/London:20190918T190000
DTSTAMP:20260424T194252
CREATED:20190626T133553Z
LAST-MODIFIED:20190626T133553Z
UID:2296-1568822400-1568833200@www.rotherhamfederation.org
SUMMARY:Nutty Crafters - Crafts Session
DESCRIPTION:The Nutty Crafters group will be holding their craft sessions EVERY Wednesday 4pm – 7pm. \nThere is a £2 charge per person per session which includes refreshments.
URL:https://www.rotherhamfederation.org/event/nutty-crafters-crafts-session-11/
LOCATION:Glencairn Community Centre\, S66 7SQ
END:VEVENT
BEGIN:VEVENT
DTSTART;TZID=Europe/London:20190920T100000
DTEND;TZID=Europe/London:20190920T150000
DTSTAMP:20260424T194252
CREATED:20190621T105521Z
LAST-MODIFIED:20190621T105521Z
UID:2233-1568973600-1568991600@www.rotherhamfederation.org
SUMMARY:Rotherham Deaf Futures - Deaf Social
DESCRIPTION:Rotherham Deaf Futures are holding their Deaf Social sessions on Fridays at Springwell Gardens Community Centre\, 10am – 3pm.
URL:https://www.rotherhamfederation.org/event/rotherham-deaf-futures-deaf-social-13/
LOCATION:Springwell Gardens Community Centre\, Eastwood View\, Rotherham\, South Yorkshire\, S65 1NH\, United Kingdom
END:VEVENT
BEGIN:VEVENT
DTSTART;TZID=Europe/London:20190921T100000
DTEND;TZID=Europe/London:20190921T150000
DTSTAMP:20260424T194252
CREATED:20190730T112323Z
LAST-MODIFIED:20190730T112354Z
UID:2418-1569060000-1569078000@www.rotherhamfederation.org
SUMMARY:Heritage Day Catcliffe
DESCRIPTION:Heritage Day at Saint Mary’s Church\, Catcliffe \nRefreshments\, art display\, judging of children’s art competition\, naming the lamb\, painting glass jars and pebbles. \nDick Dyson photographic talk on Catcliffe at 1.45pm \nTalks in the Kiln by Christine Evans 11am – 12am and 1pm \nFor more information contact Arnie Ayres 01709 364089
URL:https://www.rotherhamfederation.org/event/2418/
LOCATION:St Mary’s Church\, Catcliffe
END:VEVENT
BEGIN:VEVENT
DTSTART;TZID=Europe/London:20190925T160000
DTEND;TZID=Europe/London:20190925T190000
DTSTAMP:20260424T194252
CREATED:20190626T134019Z
LAST-MODIFIED:20190626T134019Z
UID:2298-1569427200-1569438000@www.rotherhamfederation.org
SUMMARY:Nutty Crafters - Crafts Session
DESCRIPTION:The Nutty Crafters group will be holding their craft sessions EVERY Wednesday 4pm – 7pm. \nThere is a £2 charge per person per session which includes refreshments.
URL:https://www.rotherhamfederation.org/event/nutty-crafters-crafts-session-12/
LOCATION:Glencairn Community Centre\, S66 7SQ
END:VEVENT
BEGIN:VEVENT
DTSTART;TZID=Europe/London:20190927T100000
DTEND;TZID=Europe/London:20190927T150000
DTSTAMP:20260424T194252
CREATED:20190621T105701Z
LAST-MODIFIED:20190621T105702Z
UID:2235-1569578400-1569596400@www.rotherhamfederation.org
SUMMARY:Rotherham Deaf Futures - Deaf Social
DESCRIPTION:Rotherham Deaf Futures are holding their Deaf Social sessions on Fridays at Springwell Gardens Community Centre\, 10am – 3pm.
URL:https://www.rotherhamfederation.org/event/rotherham-deaf-futures-deaf-social-14/
LOCATION:Springwell Gardens Community Centre\, Eastwood View\, Rotherham\, South Yorkshire\, S65 1NH\, United Kingdom
END:VEVENT
END:VCALENDAR