BEGIN:VCALENDAR
VERSION:2.0
PRODID:-//Rotherham Federation - ECPv6.6.3//NONSGML v1.0//EN
CALSCALE:GREGORIAN
METHOD:PUBLISH
X-WR-CALNAME:Rotherham Federation
X-ORIGINAL-URL:https://www.rotherhamfederation.org
X-WR-CALDESC:Events for Rotherham Federation
REFRESH-INTERVAL;VALUE=DURATION:PT1H
X-Robots-Tag:noindex
X-PUBLISHED-TTL:PT1H
BEGIN:VTIMEZONE
TZID:Europe/London
BEGIN:DAYLIGHT
TZOFFSETFROM:+0000
TZOFFSETTO:+0100
TZNAME:BST
DTSTART:20190331T010000
END:DAYLIGHT
BEGIN:STANDARD
TZOFFSETFROM:+0100
TZOFFSETTO:+0000
TZNAME:GMT
DTSTART:20191027T010000
END:STANDARD
END:VTIMEZONE
BEGIN:VEVENT
DTSTART;TZID=Europe/London:20190615T120000
DTEND;TZID=Europe/London:20190615T170000
DTSTAMP:20260425T020718
CREATED:20190612T100528Z
LAST-MODIFIED:20190612T105505Z
UID:2090-1560600000-1560618000@www.rotherhamfederation.org
SUMMARY:Dinnington Carnival
DESCRIPTION:Rotherham Federation of Communities will be having a stall at this event to promote our work.  Come and meet the Community Organiser working in Dinnington Area – Ian Huddleston and find out about the work we do.
URL:https://www.rotherhamfederation.org/event/2090/
LOCATION:Dinnington High School\, Doe Quarry Lane\, Sheffield\, S25 2NZ\, United Kingdom
END:VEVENT
BEGIN:VEVENT
DTSTART;TZID=Europe/London:20190617T103000
DTEND;TZID=Europe/London:20190617T123000
DTSTAMP:20260425T020718
CREATED:20190612T100214Z
LAST-MODIFIED:20190612T100214Z
UID:2096-1560767400-1560774600@www.rotherhamfederation.org
SUMMARY:Tenant Scrutiny Meeting
DESCRIPTION:The tenant scrutiny meeting will be held on Monday 17th June 2019 at 10:30am
URL:https://www.rotherhamfederation.org/event/tenant-scrutiny-meeting-2/
LOCATION:Springwell Gardens Community Centre\, Eastwood View\, Rotherham\, South Yorkshire\, S65 1NH\, United Kingdom
END:VEVENT
BEGIN:VEVENT
DTSTART;TZID=Europe/London:20190619T130000
DTEND;TZID=Europe/London:20190619T143000
DTSTAMP:20260425T020718
CREATED:20190612T102728Z
LAST-MODIFIED:20190612T105727Z
UID:2115-1560949200-1560954600@www.rotherhamfederation.org
SUMMARY:Interview Workshop - Thurcroft Big Local
DESCRIPTION:Spaces are limited and will need to be booked.  Please email louise.johnson@rotherfed.org or text 07943 025669 to secure your place
URL:https://www.rotherhamfederation.org/event/interview-workshop-thurcroft-big-local/
LOCATION:Thurcroft Hub\, New Orchard Lane\, Rotherham\, S66 9AE\, United Kingdom
END:VEVENT
BEGIN:VEVENT
DTSTART;TZID=Europe/London:20190620T093000
DTEND;TZID=Europe/London:20190620T160000
DTSTAMP:20260425T020718
CREATED:20190612T102015Z
LAST-MODIFIED:20190612T102015Z
UID:2107-1561023000-1561046400@www.rotherhamfederation.org
SUMMARY:Training - Listening Skills for Community Organising
DESCRIPTION:Training for Listening Skills for Community Organising (QA) – \, Quality Assured is 15 learning Credits and Accredited certificates is 45 learning credits\, all courses are approved by external markers ABC and Certa. \nTraining must be booked via our Community Organiser Penny Thompson.  To contact Penny please call 07813 543332/01709 368515 or email penny.thompson@rotherfed.org \nFree lunch and refreshments will be provided on the day \nThe Quality Assured course require a minimum of 6 hours of attendance. You then have the opportunity to partake in accredited courses at NVQ Level 2 & 3
URL:https://www.rotherhamfederation.org/event/training-listening-skills-for-community-organising/
LOCATION:Springwell Gardens Community Centre\, Eastwood View\, Rotherham\, South Yorkshire\, S65 1NH\, United Kingdom
END:VEVENT
BEGIN:VEVENT
DTSTART;TZID=Europe/London:20190620T130000
DTEND;TZID=Europe/London:20190620T160000
DTSTAMP:20260425T020718
CREATED:20190612T104930Z
LAST-MODIFIED:20190612T105016Z
UID:2127-1561035600-1561046400@www.rotherhamfederation.org
SUMMARY:Ferham Primary School Fayre
DESCRIPTION:Come and support the local primary school and meet the area’s Community Organiser – Victoria Hilton \nFor more information about the event please contact Vicky on Victoria.hilton@rotherfed.org
URL:https://www.rotherhamfederation.org/event/ferham-primary-school-fair/
LOCATION:Ferham Primary School\, Ferham Road\, Rotherham\, S61 1AP\, United Kingdom
END:VEVENT
BEGIN:VEVENT
DTSTART;TZID=Europe/London:20190621T100000
DTEND;TZID=Europe/London:20190621T150000
DTSTAMP:20260425T020718
CREATED:20190612T143219Z
LAST-MODIFIED:20190621T101420Z
UID:2174-1561111200-1561129200@www.rotherhamfederation.org
SUMMARY:Rotherham Deaf Futures - Deaf Social
DESCRIPTION:Rotherham Deaf Futures are holding their Deaf Social sessions on Fridays at Springwell Gardens Community Centre\, 10am – 3pm.
URL:https://www.rotherhamfederation.org/event/deaf-social/
LOCATION:Springwell Gardens Community Centre\, Eastwood View\, Rotherham\, South Yorkshire\, S65 1NH\, United Kingdom
END:VEVENT
BEGIN:VEVENT
DTSTART;TZID=Europe/London:20190622T120000
DTEND;TZID=Europe/London:20190622T150000
DTSTAMP:20260425T020718
CREATED:20190612T103510Z
LAST-MODIFIED:20190612T110159Z
UID:2120-1561204800-1561215600@www.rotherhamfederation.org
SUMMARY:Eastwood Fun Fest
DESCRIPTION:Eastwood Fun Fest will be held again on Eldon Road Playing Fields \nThis year will have a Carnival Parade theme with a Live Samba Band at 12.15pm \nFood\, games\, stalls\, face painting and lots more
URL:https://www.rotherhamfederation.org/event/eastwood-fun-fest/
LOCATION:Eldon Road Playing Fields\, Off Erskine Road\, Rotherham\, United Kingdom
END:VEVENT
BEGIN:VEVENT
DTSTART;TZID=Europe/London:20190625T113000
DTEND;TZID=Europe/London:20190625T130000
DTSTAMP:20260425T020718
CREATED:20190606T153054Z
LAST-MODIFIED:20190606T153054Z
UID:2051-1561462200-1561467600@www.rotherhamfederation.org
SUMMARY:East Dene Litter Pick
DESCRIPTION:
URL:https://www.rotherhamfederation.org/event/east-dene-litter-pick/
LOCATION:The Lanes Community Centre
ORGANIZER;CN="Sarah Bingham":MAILTO:sarah.bingham@rotherfed.org
END:VEVENT
BEGIN:VEVENT
DTSTART;TZID=Europe/London:20190627T093000
DTEND;TZID=Europe/London:20190627T160000
DTSTAMP:20260425T020718
CREATED:20190612T102247Z
LAST-MODIFIED:20190612T102247Z
UID:2110-1561627800-1561651200@www.rotherhamfederation.org
SUMMARY:Training - Build Power Through Community Organising
DESCRIPTION:Training for Building Power Through Community Organising (QA) – \, Quality Assured is 15 learning Credits and Accredited certificates is 45 learning credits\, all courses are approved by external markers ABC and Certa.\nTraining must be booked via our Community Organiser Penny Thompson. To contact Penny please call 07813 543332/01709 368515 or email penny.thompson@rotherfed.org\nFree lunch and refreshments will be provided on the day\nThe Quality Assured course require a minimum of 6 hours of attendance. You then have the opportunity to partake in accredited courses at NVQ Level 2 & 3
URL:https://www.rotherhamfederation.org/event/training-build-power-through-community-organising/
LOCATION:Springwell Gardens Community Centre\, Eastwood View\, Rotherham\, South Yorkshire\, S65 1NH\, United Kingdom
END:VEVENT
BEGIN:VEVENT
DTSTART;TZID=Europe/London:20190628T100000
DTEND;TZID=Europe/London:20190628T150000
DTSTAMP:20260425T020718
CREATED:20190612T143405Z
LAST-MODIFIED:20190621T101541Z
UID:2177-1561716000-1561734000@www.rotherhamfederation.org
SUMMARY:Rotherham Deaf Futures - Deaf Social
DESCRIPTION:Rotherham Deaf Futures are holding their Deaf Social sessions on Fridays at Springwell Gardens Community Centre\, 10am – 3pm.
URL:https://www.rotherhamfederation.org/event/rotherham-deaf-futures-deaf-social/
LOCATION:Springwell Gardens Community Centre\, Eastwood View\, Rotherham\, South Yorkshire\, S65 1NH\, United Kingdom
END:VEVENT
BEGIN:VEVENT
DTSTART;TZID=Europe/London:20190629T100000
DTEND;TZID=Europe/London:20190629T163000
DTSTAMP:20260425T020718
CREATED:20190612T144509Z
LAST-MODIFIED:20190612T144509Z
UID:2187-1561802400-1561825800@www.rotherhamfederation.org
SUMMARY:Rotherham Armed Forces Day
DESCRIPTION:
URL:https://www.rotherhamfederation.org/event/rotherham-armed-forces-day/
LOCATION:Rotherham Town Centre
END:VEVENT
END:VCALENDAR