BEGIN:VCALENDAR
VERSION:2.0
PRODID:-//Rotherham Federation - ECPv6.6.3//NONSGML v1.0//EN
CALSCALE:GREGORIAN
METHOD:PUBLISH
X-ORIGINAL-URL:https://www.rotherhamfederation.org
X-WR-CALDESC:Events for Rotherham Federation
REFRESH-INTERVAL;VALUE=DURATION:PT1H
X-Robots-Tag:noindex
X-PUBLISHED-TTL:PT1H
BEGIN:VTIMEZONE
TZID:Europe/London
BEGIN:DAYLIGHT
TZOFFSETFROM:+0000
TZOFFSETTO:+0100
TZNAME:BST
DTSTART:20180325T010000
END:DAYLIGHT
BEGIN:STANDARD
TZOFFSETFROM:+0100
TZOFFSETTO:+0000
TZNAME:GMT
DTSTART:20181028T010000
END:STANDARD
BEGIN:DAYLIGHT
TZOFFSETFROM:+0000
TZOFFSETTO:+0100
TZNAME:BST
DTSTART:20190331T010000
END:DAYLIGHT
BEGIN:STANDARD
TZOFFSETFROM:+0100
TZOFFSETTO:+0000
TZNAME:GMT
DTSTART:20191027T010000
END:STANDARD
END:VTIMEZONE
BEGIN:VEVENT
DTSTART;VALUE=DATE:20181224
DTEND;VALUE=DATE:20190102
DTSTAMP:20260425T112234
CREATED:20181109T160655Z
LAST-MODIFIED:20181109T160655Z
UID:1353-1545609600-1546387199@www.rotherhamfederation.org
SUMMARY:Rotherham Federation Office Closed
DESCRIPTION:Federation offices are closed for Christmas holidays. The office will reopen on Wednesday 2nd January 2019
URL:https://www.rotherhamfederation.org/event/rotherham-federation-office-closed-2/
LOCATION:South Yorkshire
END:VEVENT
BEGIN:VEVENT
DTSTART;TZID=Europe/London:20190115T100000
DTEND;TZID=Europe/London:20190115T120000
DTSTAMP:20260425T112234
CREATED:20190109T151932Z
LAST-MODIFIED:20190109T151932Z
UID:1515-1547546400-1547553600@www.rotherhamfederation.org
SUMMARY:Rotherham Digital Inclusion Network
DESCRIPTION:Open meeting to discuss digital inclusion in Rotherham \nDigital Inclusion 150119 Agenda
URL:https://www.rotherhamfederation.org/event/rotherham-digital-inclusion-network/
LOCATION:Springwell Gardens Community Centre\, Eastwood View\, Rotherham\, South Yorkshire\, S65 1NH\, United Kingdom
ATTACH;FMTTYPE=image/gif:https://www.rotherhamfederation.org/wp-content/uploads/2018/08/computer.gif
ORGANIZER;CN="Sarah Fletcher":MAILTO:sarah.fletcher@rotherfed.org
END:VEVENT
BEGIN:VEVENT
DTSTART;TZID=Europe/London:20190117T100000
DTEND;TZID=Europe/London:20190117T160000
DTSTAMP:20260425T112234
CREATED:20181126T104657Z
LAST-MODIFIED:20181126T104739Z
UID:1391-1547719200-1547740800@www.rotherhamfederation.org
SUMMARY:Safeguarding Training
DESCRIPTION:Places must be booked. Please call 01709 368515 to book your place. A £5 refundable (on attendance) deposit will be required to secure your place.
URL:https://www.rotherhamfederation.org/event/safeguarding-training-3/
LOCATION:Springwell Gardens Community Centre\, Eastwood View\, Rotherham\, South Yorkshire\, S65 1NH\, United Kingdom
END:VEVENT
BEGIN:VEVENT
DTSTART;TZID=Europe/London:20190118T160000
DTEND;TZID=Europe/London:20190118T170000
DTSTAMP:20260425T112234
CREATED:20190103T095159Z
LAST-MODIFIED:20190103T131253Z
UID:1460-1547827200-1547830800@www.rotherhamfederation.org
SUMMARY:Springwell Gardens Community Meeting
DESCRIPTION:An opportunity for residents (Homeowners\, RMBC/Guinness Partnership tenants) living in the Springwell Gardens area to come together to have a voice in what they would like to see that would improve their lives within the community. \n  \nRefreshments available. \n  \nFor more information please contact Delton Taylor\, 07538 625109. \n 
URL:https://www.rotherhamfederation.org/event/springwell-gardens-community-meeting/
LOCATION:Springwell Gardens Community Centre\, Eastwood View\, Rotherham\, South Yorkshire\, S65 1NH\, United Kingdom
END:VEVENT
BEGIN:VEVENT
DTSTART;TZID=Europe/London:20190131T103000
DTEND;TZID=Europe/London:20190131T143000
DTSTAMP:20260425T112234
CREATED:20181112T141210Z
LAST-MODIFIED:20181113T095655Z
UID:1369-1548930600-1548945000@www.rotherhamfederation.org
SUMMARY:TPAS Complaints Session
DESCRIPTION:at Springwell Gardens Community Centre on 31st January
URL:https://www.rotherhamfederation.org/event/tpas-complaints-session/
LOCATION:Springwell Gardens Community Centre\, Eastwood View\, Rotherham\, South Yorkshire\, S65 1NH\, United Kingdom
END:VEVENT
END:VCALENDAR