BEGIN:VCALENDAR
VERSION:2.0
PRODID:-//Rotherham Federation - ECPv6.6.3//NONSGML v1.0//EN
CALSCALE:GREGORIAN
METHOD:PUBLISH
X-ORIGINAL-URL:https://www.rotherhamfederation.org
X-WR-CALDESC:Events for Rotherham Federation
REFRESH-INTERVAL;VALUE=DURATION:PT1H
X-Robots-Tag:noindex
X-PUBLISHED-TTL:PT1H
BEGIN:VTIMEZONE
TZID:Europe/London
BEGIN:DAYLIGHT
TZOFFSETFROM:+0000
TZOFFSETTO:+0100
TZNAME:BST
DTSTART:20180325T010000
END:DAYLIGHT
BEGIN:STANDARD
TZOFFSETFROM:+0100
TZOFFSETTO:+0000
TZNAME:GMT
DTSTART:20181028T010000
END:STANDARD
END:VTIMEZONE
BEGIN:VEVENT
DTSTART;TZID=Europe/London:20181107T130000
DTEND;TZID=Europe/London:20181107T150000
DTSTAMP:20260425T153947
CREATED:20180831T153654Z
LAST-MODIFIED:20180831T153654Z
UID:1112-1541595600-1541602800@www.rotherhamfederation.org
SUMMARY:Introduction to Funding Bids
DESCRIPTION:£5 refundable deposit required to guarantee your place.
URL:https://www.rotherhamfederation.org/event/introduction-to-funding-bids/
LOCATION:Springwell Gardens Community Centre\, Eastwood View\, Rotherham\, South Yorkshire\, S65 1NH\, United Kingdom
CATEGORIES:Training
ATTACH;FMTTYPE=image/jpeg:https://www.rotherhamfederation.org/wp-content/uploads/2018/08/introduction-to-funding.jpg
ORGANIZER;CN="Victoria.Hobson":MAILTO:victoria.hobson@rotherfed.org
END:VEVENT
BEGIN:VEVENT
DTSTART;TZID=Europe/London:20181112T103000
DTEND;TZID=Europe/London:20181112T123000
DTSTAMP:20260425T153947
CREATED:20181105T125124Z
LAST-MODIFIED:20181105T125124Z
UID:1342-1542018600-1542025800@www.rotherhamfederation.org
SUMMARY:Tenant Scrutiny Panel
DESCRIPTION:Scrutiny review of antisocial behaviour \nDraft Agenda
URL:https://www.rotherhamfederation.org/event/tenant-scrutiny-panel-2/
LOCATION:Springwell Gardens Community Centre\, Eastwood View\, Rotherham\, South Yorkshire\, S65 1NH\, United Kingdom
CATEGORIES:Meeting
ATTACH;FMTTYPE=image/jpeg:https://www.rotherhamfederation.org/wp-content/uploads/2017/10/scrutiny.jpg
ORGANIZER;CN="Steve Ruffle":MAILTO:steve.ruffle@rotherfed.org
END:VEVENT
BEGIN:VEVENT
DTSTART;TZID=Europe/London:20181115T120000
DTEND;TZID=Europe/London:20181115T150000
DTSTAMP:20260425T153947
CREATED:20180806T123834Z
LAST-MODIFIED:20180806T123834Z
UID:992-1542283200-1542294000@www.rotherhamfederation.org
SUMMARY:Basic Health and Safety for Community Groups
DESCRIPTION:Rotherham Federation is pleased to bring you Basic Health and Safety for your community group.  The 3 hour course will cover: \n• Introduction to basic health and safety concepts\n• Improve awareness of hazards\n• Enhance the safety culture in your group\n• Risk Assessment – including why and how to complete one\n• Identify Fire Safety issues\n• Rules on First Aid/accident reporting\n• Brief outline of Health and Safety at work\n• Prevention of Accidents and Ill Health \nTo book your place please call 01709 368515 or email info@rotherfed.org.  A £5 refundable deposit is required to secure your place
URL:https://www.rotherhamfederation.org/event/basic-health-and-safety-for-community-groups/
LOCATION:Springwell Gardens Community Centre\, Eastwood View\, Rotherham\, South Yorkshire\, S65 1NH\, United Kingdom
CATEGORIES:Training
ORGANIZER;CN="Sarah Fletcher":MAILTO:sarah.fletcher@rotherfed.org
END:VEVENT
BEGIN:VEVENT
DTSTART;TZID=Europe/London:20181122T090000
DTEND;TZID=Europe/London:20181122T150000
DTSTAMP:20260425T153947
CREATED:20181026T124709Z
LAST-MODIFIED:20181026T125033Z
UID:1201-1542877200-1542898800@www.rotherhamfederation.org
SUMMARY:Emergency First Aid At Work - Maltby
DESCRIPTION:Thursday 22nd November 2018 \nStepping Stones Children’s Centre\, Maltby\, S66 7NQ \n9am – 3pm \nBook your place by calling us on 01709 368515 or by emailing info@rotherfed.org \nA £5 refundable deposit is required prior to the training to book your place. \nLUNCH IS NOT INCLUDED \n 
URL:https://www.rotherhamfederation.org/event/emergency-first-aid-at-work-maltby/
LOCATION:Stepping Stones Children’s Centre
END:VEVENT
BEGIN:VEVENT
DTSTART;TZID=Europe/London:20181129T100000
DTEND;TZID=Europe/London:20181129T120000
DTSTAMP:20260425T153947
CREATED:20180117T135017Z
LAST-MODIFIED:20181111T113912Z
UID:467-1543485600-1543492800@www.rotherhamfederation.org
SUMMARY:Open Board Meeting
DESCRIPTION:The Rotherham Federation open board meeting will discuss the future of area housing panels. \nThe meeting is open to all. \n\n\nhttps://www.rotherhamfederation.org/wp-content/uploads/2018/11/ahps.mp4
URL:https://www.rotherhamfederation.org/event/open-board-meeting-4/
LOCATION:Springwell Gardens Community Centre\, Eastwood View\, Rotherham\, South Yorkshire\, S65 1NH\, United Kingdom
ATTACH;FMTTYPE=image/jpeg:https://www.rotherhamfederation.org/wp-content/uploads/2018/01/Rotherham-Federation-Board-Meeting-29112018.jpg
ORGANIZER;CN="Steve Ruffle":MAILTO:steve.ruffle@rotherfed.org
END:VEVENT
END:VCALENDAR