BEGIN:VCALENDAR
VERSION:2.0
PRODID:-//Rotherham Federation - ECPv6.6.3//NONSGML v1.0//EN
CALSCALE:GREGORIAN
METHOD:PUBLISH
X-ORIGINAL-URL:https://www.rotherhamfederation.org
X-WR-CALDESC:Events for Rotherham Federation
REFRESH-INTERVAL;VALUE=DURATION:PT1H
X-Robots-Tag:noindex
X-PUBLISHED-TTL:PT1H
BEGIN:VTIMEZONE
TZID:Europe/London
BEGIN:DAYLIGHT
TZOFFSETFROM:+0000
TZOFFSETTO:+0100
TZNAME:BST
DTSTART:20180325T010000
END:DAYLIGHT
BEGIN:STANDARD
TZOFFSETFROM:+0100
TZOFFSETTO:+0000
TZNAME:GMT
DTSTART:20181028T010000
END:STANDARD
END:VTIMEZONE
BEGIN:VEVENT
DTSTART;TZID=Europe/London:20180414T100000
DTEND;TZID=Europe/London:20180414T140000
DTSTAMP:20260426T040135
CREATED:20180319T161848Z
LAST-MODIFIED:20180319T161848Z
UID:698-1523700000-1523714400@www.rotherhamfederation.org
SUMMARY:Springwell Gardens Spring Clean
DESCRIPTION:Community litter pick.
URL:https://www.rotherhamfederation.org/event/springwell-gardens-spring-clean/
LOCATION:Springwell Gardens Community Centre\, Eastwood View\, Rotherham\, South Yorkshire\, S65 1NH\, United Kingdom
ATTACH;FMTTYPE=image/jpeg:https://www.rotherhamfederation.org/wp-content/uploads/2018/03/springwell-gardens-spring-clean.jpg
ORGANIZER;CN="Delton Taylor":MAILTO:delton.taylor@rotherfed.org
END:VEVENT
BEGIN:VEVENT
DTSTART;TZID=Europe/London:20180416T103000
DTEND;TZID=Europe/London:20180416T123000
DTSTAMP:20260426T040135
CREATED:20180308T163537Z
LAST-MODIFIED:20180308T163537Z
UID:658-1523874600-1523881800@www.rotherhamfederation.org
SUMMARY:Tenant Scrutiny Panel
DESCRIPTION:Are you interested in joining our tenant scrutiny panel and making a difference to tenant services in Rotherham.  If you have some time and wish to help we are looking for new members of the panel. \nFirst meeting to discuss the new scrutiny review will be: \n10am-12 noon \nMonday 16th April 2018 \nSpringwell Gardens Community Centre \nCome along and find out more about what we do.
URL:https://www.rotherhamfederation.org/event/tenant-scrutiny-panel/
LOCATION:Springwell Gardens Community Centre\, Eastwood View\, Rotherham\, South Yorkshire\, S65 1NH\, United Kingdom
ATTACH;FMTTYPE=image/jpeg:https://www.rotherhamfederation.org/wp-content/uploads/2018/03/scrutiny.jpg
END:VEVENT
BEGIN:VEVENT
DTSTART;TZID=Europe/London:20180425T130000
DTEND;TZID=Europe/London:20180425T150000
DTSTAMP:20260426T040135
CREATED:20180330T091047Z
LAST-MODIFIED:20180330T091047Z
UID:722-1524661200-1524668400@www.rotherhamfederation.org
SUMMARY:Running Your Group
DESCRIPTION:At the session at Springwell Gardens Community Centre\, Running Your Group on Wednesday 25th April  2018\, you will find out about getting organised\, arranging your meetings\, activities and putting in place your group aims. The Session is taught by Steve Ruffle and Vickie Hobson. \n \nBook here
URL:https://www.rotherhamfederation.org/event/running-your-group/
LOCATION:Springwell Gardens Community Centre\, Eastwood View\, Rotherham\, South Yorkshire\, S65 1NH\, United Kingdom
ORGANIZER;CN="Steve Ruffle":MAILTO:steve.ruffle@rotherfed.org
END:VEVENT
END:VCALENDAR