BEGIN:VCALENDAR
VERSION:2.0
PRODID:-//Rotherham Federation - ECPv6.6.3//NONSGML v1.0//EN
CALSCALE:GREGORIAN
METHOD:PUBLISH
X-WR-CALNAME:Rotherham Federation
X-ORIGINAL-URL:https://www.rotherhamfederation.org
X-WR-CALDESC:Events for Rotherham Federation
REFRESH-INTERVAL;VALUE=DURATION:PT1H
X-Robots-Tag:noindex
X-PUBLISHED-TTL:PT1H
BEGIN:VTIMEZONE
TZID:Europe/London
BEGIN:DAYLIGHT
TZOFFSETFROM:+0000
TZOFFSETTO:+0100
TZNAME:BST
DTSTART:20180325T010000
END:DAYLIGHT
BEGIN:STANDARD
TZOFFSETFROM:+0100
TZOFFSETTO:+0000
TZNAME:GMT
DTSTART:20181028T010000
END:STANDARD
END:VTIMEZONE
BEGIN:VEVENT
DTSTART;TZID=Europe/London:20180714T103000
DTEND;TZID=Europe/London:20180714T180000
DTSTAMP:20260425T160047
CREATED:20180707T142638Z
LAST-MODIFIED:20180707T142646Z
UID:892-1531564200-1531591200@www.rotherhamfederation.org
SUMMARY:Rotherham Pride
DESCRIPTION:Rotherham Federation will be joining both the march beginning on Church Street at 10.30am  and have a stall at Rotherham Pridee event in Clifton Park between 12 noon and 6pm. \nOur theme on the march is unicorns. \nBritish Sign Language interpreters will be available on the day.
URL:https://www.rotherhamfederation.org/event/rotherham-pride/
LOCATION:Clifton Park\, Rotherham\, S65 2BH
ATTACH;FMTTYPE=image/jpeg:https://www.rotherhamfederation.org/wp-content/uploads/2018/07/rotherham-pride.jpg
END:VEVENT
BEGIN:VEVENT
DTSTART;TZID=Europe/London:20180712T100000
DTEND;TZID=Europe/London:20180712T160000
DTSTAMP:20260425T160047
CREATED:20180405T091724Z
LAST-MODIFIED:20180405T091724Z
UID:781-1531389600-1531411200@www.rotherhamfederation.org
SUMMARY:Safeguarding Training
DESCRIPTION:Places must be booked in advance on 01709 368515 or by email
URL:https://www.rotherhamfederation.org/event/safeguarding-training-2/
LOCATION:Springwell Gardens Community Centre\, Eastwood View\, Rotherham\, South Yorkshire\, S65 1NH\, United Kingdom
ATTACH;FMTTYPE=image/jpeg:https://www.rotherhamfederation.org/wp-content/uploads/2018/04/safeguarding.jpg
ORGANIZER;CN="Steve Ruffle":MAILTO:steve.ruffle@rotherfed.org
END:VEVENT
BEGIN:VEVENT
DTSTART;TZID=Europe/London:20180710T100000
DTEND;TZID=Europe/London:20180710T130000
DTSTAMP:20260425T160047
CREATED:20180603T083650Z
LAST-MODIFIED:20180612T124524Z
UID:868-1531216800-1531227600@www.rotherhamfederation.org
SUMMARY:Benefits Advice
DESCRIPTION:Free Benefits advice every week in partnership with Barnsley DIAL
URL:https://www.rotherhamfederation.org/event/benefits-advice/
LOCATION:Springwell Gardens Community Centre\, Eastwood View\, Rotherham\, South Yorkshire\, S65 1NH\, United Kingdom
ATTACH;FMTTYPE=image/jpeg:https://www.rotherhamfederation.org/wp-content/uploads/2018/06/advice.jpg
ORGANIZER;CN="Steve Ruffle":MAILTO:steve.ruffle@rotherfed.org
END:VEVENT
BEGIN:VEVENT
DTSTART;TZID=Europe/London:20180710T100000
DTEND;TZID=Europe/London:20180710T120000
DTSTAMP:20260425T160047
CREATED:20180708T063450Z
LAST-MODIFIED:20180708T063450Z
UID:901-1531216800-1531224000@www.rotherhamfederation.org
SUMMARY:Rotherham Digital Inclusion Networ
DESCRIPTION:Everyone is welcome to this open meeting at Springwell Gardens Community Centre. \nAgenda  \nThe network is a group of volunteers and staff working and supporting people to get online.
URL:https://www.rotherhamfederation.org/event/rotherham-digital-inclusion-networ/
LOCATION:Springwell Gardens Community Centre\, Eastwood View\, Rotherham\, South Yorkshire\, S65 1NH\, United Kingdom
ATTACH;FMTTYPE=image/jpeg:https://www.rotherhamfederation.org/wp-content/uploads/2018/07/digital-champions2.jpg
END:VEVENT
BEGIN:VEVENT
DTSTART;TZID=Europe/London:20180703T100000
DTEND;TZID=Europe/London:20180703T140000
DTSTAMP:20260425T160047
CREATED:20180117T135505Z
LAST-MODIFIED:20180630T190843Z
UID:473-1530612000-1530626400@www.rotherhamfederation.org
SUMMARY:Tenants Conference
DESCRIPTION:RMBC’s Annual Tenants Conference will be held between 10am and 2pm on Tuesday 3rdJuly 2018 at New York Stadium. \nDuring the morning Rotherham Federation will be presenting two sets of awards. \nHousing Staff Awards\nThose housing staff from Fortem\, Mears or RMBC who have done that little bit extra to help council tenants will be presented with trophies. \nCommunity Group Awards\nAwards and cash prizes will be also awarded to  community groups who have achievements in six quality areas \, which include governance\, communication\, involving people\, finance and making a difference. \nStalls\n\nHome Instead\nRotherham Federation\nAdult Care/Connect to Support\nRotherham United Sports Trust\nHillcare\nShared Lives\nAssist Tech\nIndependence Guide Team\nFortem\nHealth Watch\nBritish Legion\nArt Works\nRotherham Sight and Sound\nPolice – Neighbourhood police & Hate Crime\nMears\nSouth Yorkshire Fire and Rescue\nSuperfast South Yorkshire\nHousing Support\nBe Cancer Safe\nTogether Housing\nGrow Wild\nKey Choices & Home Swapper\nContracts Investment & Compliance Team\n\nSMART TV\n  \nThere will be one lucky winner of a 43″ Bush SMART TV at the conference. \nConference Places can be booked by clicking here.\n \n 
URL:https://www.rotherhamfederation.org/event/tenants-conference/
LOCATION:Springwell Gardens Community Centre\, Eastwood View\, Rotherham\, South Yorkshire\, S65 1NH\, United Kingdom
ATTACH;FMTTYPE=image/jpeg:https://www.rotherhamfederation.org/wp-content/uploads/2018/01/tenants-conference-flyer_Page_1.jpg
END:VEVENT
BEGIN:VEVENT
DTSTART;TZID=Europe/London:20180628T090000
DTEND;TZID=Europe/London:20180628T170000
DTSTAMP:20260425T160047
CREATED:20180401T080104Z
LAST-MODIFIED:20180404T160707Z
UID:768-1530176400-1530205200@www.rotherhamfederation.org
SUMMARY:Manchester Housing Exhibition
DESCRIPTION:With the support of Mears\, Rotherham Federation is organising a bus trip to the CIH exhibition in Manchester. \nMeet at Springwell Gardens Community Centre at 9am.
URL:https://www.rotherhamfederation.org/event/manchester-housing-exhibition/
LOCATION:Manchester Central
ATTACH;FMTTYPE=image/jpeg:https://www.rotherhamfederation.org/wp-content/uploads/2018/04/poster-housing-exhibition-18.jpg
ORGANIZER;CN="Steve Ruffle":MAILTO:steve.ruffle@rotherfed.org
END:VEVENT
BEGIN:VEVENT
DTSTART;TZID=Europe/London:20180623T123000
DTEND;TZID=Europe/London:20180623T150000
DTSTAMP:20260425T160047
CREATED:20180603T083217Z
LAST-MODIFIED:20180603T083248Z
UID:862-1529757000-1529766000@www.rotherhamfederation.org
SUMMARY:Eastwood FunFest
DESCRIPTION:Rotherham Federation will be there at Eldon Road Playing Fields again this year.
URL:https://www.rotherhamfederation.org/event/eastwood-funfest/
LOCATION:Eldon Road Playing Fields\, Off Erskine Road\, Rotherham\, United Kingdom
ATTACH;FMTTYPE=image/jpeg:https://www.rotherhamfederation.org/wp-content/uploads/2018/06/eastwood-funfest-poster.jpg
END:VEVENT
BEGIN:VEVENT
DTSTART;TZID=Europe/London:20180621T110000
DTEND;TZID=Europe/London:20180621T150000
DTSTAMP:20260425T160047
CREATED:20180527T074451Z
LAST-MODIFIED:20180615T062712Z
UID:855-1529578800-1529593200@www.rotherhamfederation.org
SUMMARY:Thurcroft Jobs and Apprenticeship Fayre
DESCRIPTION:
URL:https://www.rotherhamfederation.org/event/thurcroft-jobs-and-apprenticeship-fayre/
LOCATION:Thurcroft Hub\, New Orchard Lane\, Rotherham\, S66 9AE\, United Kingdom
END:VEVENT
BEGIN:VEVENT
DTSTART;TZID=Europe/London:20180621T100000
DTEND;TZID=Europe/London:20180621T160000
DTSTAMP:20260425T160047
CREATED:20180603T082812Z
LAST-MODIFIED:20180603T082812Z
UID:860-1529575200-1529596800@www.rotherhamfederation.org
SUMMARY:Food Hygiene Level 2
DESCRIPTION:Food Hygiene level 2course at Springwell Gardens Community Centre. \n  \nAll places must be booked and though free to volunteers require a £5 deposit to guarantee a place. Phone 01709 368515 to book or email
URL:https://www.rotherhamfederation.org/event/food-hygiene-level-2/
LOCATION:Springwell Gardens Community Centre\, Eastwood View\, Rotherham\, South Yorkshire\, S65 1NH\, United Kingdom
END:VEVENT
BEGIN:VEVENT
DTSTART;TZID=Europe/London:20180531T100000
DTEND;TZID=Europe/London:20180531T120000
DTSTAMP:20260425T160047
CREATED:20180117T134843Z
LAST-MODIFIED:20180509T171601Z
UID:463-1527760800-1527768000@www.rotherhamfederation.org
SUMMARY:Open Board Meeting
DESCRIPTION:Everyone is welcome to attend the next Rotherham Federation of Communities board meeting on the morning of Thursday 31st May 2018 at Springwell Gardens Community Centre. As well as the ordinary business there will be a presentation and discussion about the new repairs and maintenance contracts for council tenants in Rotherham. \nSteve Ruffle CEO of the Federation said “as an organisation that aims to strengthen communities in Rotherham we are keen to remain open in everything we do. As well as our ordinary business\, there will be a presentation by  Rotherham Council on their process for choosing new repairs and maintenance contractors”. This will provide an opportunity for tenants to ask questions\, have a say in and be involved in the process of helping select how a decision on  new repairs contractor (s) are decided. \nThe meeting begins at 10am and will be followed by a small buffet lunch at 12 noon. Places do not need to be booked.  For more details about the meeting contact the Federation offices on 01709 368515.  Springwell Gardens Community Centre is on Eastwood View and the postcode is S65 1NH. The number 37 and 115 buses pass near the centre on Doncaster Road.
URL:https://www.rotherhamfederation.org/event/open-board-meeting-2/
LOCATION:Springwell Gardens Community Centre\, Eastwood View\, Rotherham\, South Yorkshire\, S65 1NH\, United Kingdom
ATTACH;FMTTYPE=image/jpeg:https://www.rotherhamfederation.org/wp-content/uploads/2018/01/may31st-2018.jpg
END:VEVENT
BEGIN:VEVENT
DTSTART;TZID=Europe/London:20180523T130000
DTEND;TZID=Europe/London:20180523T150000
DTSTAMP:20260425T160047
CREATED:20180330T140636Z
LAST-MODIFIED:20180330T140636Z
UID:748-1527080400-1527087600@www.rotherhamfederation.org
SUMMARY:Running a Campaign
DESCRIPTION:Between 1pm and 3pm on Wednesday 23rd May\, we will look at Campaigning and how you work with others to make a difference locally and influence decision makers. The session is at Springwell Gardens Community Centre. \nBook your place here.
URL:https://www.rotherhamfederation.org/event/running-a-campaign/
LOCATION:Springwell Gardens Community Centre\, Eastwood View\, Rotherham\, South Yorkshire\, S65 1NH\, United Kingdom
ATTACH;FMTTYPE=image/jpeg:https://www.rotherhamfederation.org/wp-content/uploads/2017/12/spread-sheet-training-19122017-e1513496002251.jpg
ORGANIZER;CN="Steve Ruffle":MAILTO:steve.ruffle@rotherfed.org
END:VEVENT
BEGIN:VEVENT
DTSTART;TZID=Europe/London:20180516T130000
DTEND;TZID=Europe/London:20180516T150000
DTSTAMP:20260425T160047
CREATED:20180330T133248Z
LAST-MODIFIED:20180330T133248Z
UID:742-1526475600-1526482800@www.rotherhamfederation.org
SUMMARY:Funding Your Project
DESCRIPTION:On Wednesday 16th  May 2018\, we will look at Funding Your Project and  how to get money and resources to develop local community projects. \nThe training is at Springwell Gardens Community Centre. \nBook your place here
URL:https://www.rotherhamfederation.org/event/funding-your-project/
LOCATION:Springwell Gardens Community Centre\, Eastwood View\, Rotherham\, South Yorkshire\, S65 1NH\, United Kingdom
ATTACH;FMTTYPE=image/jpeg:https://www.rotherhamfederation.org/wp-content/uploads/2017/12/spread-sheet-training-19122017-e1513496002251.jpg
ORGANIZER;CN="Steve Ruffle":MAILTO:steve.ruffle@rotherfed.org
END:VEVENT
BEGIN:VEVENT
DTSTART;TZID=Europe/London:20180425T130000
DTEND;TZID=Europe/London:20180425T150000
DTSTAMP:20260425T160047
CREATED:20180330T091047Z
LAST-MODIFIED:20180330T091047Z
UID:722-1524661200-1524668400@www.rotherhamfederation.org
SUMMARY:Running Your Group
DESCRIPTION:At the session at Springwell Gardens Community Centre\, Running Your Group on Wednesday 25th April  2018\, you will find out about getting organised\, arranging your meetings\, activities and putting in place your group aims. The Session is taught by Steve Ruffle and Vickie Hobson. \n \nBook here
URL:https://www.rotherhamfederation.org/event/running-your-group/
LOCATION:Springwell Gardens Community Centre\, Eastwood View\, Rotherham\, South Yorkshire\, S65 1NH\, United Kingdom
ORGANIZER;CN="Steve Ruffle":MAILTO:steve.ruffle@rotherfed.org
END:VEVENT
BEGIN:VEVENT
DTSTART;TZID=Europe/London:20180416T103000
DTEND;TZID=Europe/London:20180416T123000
DTSTAMP:20260425T160047
CREATED:20180308T163537Z
LAST-MODIFIED:20180308T163537Z
UID:658-1523874600-1523881800@www.rotherhamfederation.org
SUMMARY:Tenant Scrutiny Panel
DESCRIPTION:Are you interested in joining our tenant scrutiny panel and making a difference to tenant services in Rotherham.  If you have some time and wish to help we are looking for new members of the panel. \nFirst meeting to discuss the new scrutiny review will be: \n10am-12 noon \nMonday 16th April 2018 \nSpringwell Gardens Community Centre \nCome along and find out more about what we do.
URL:https://www.rotherhamfederation.org/event/tenant-scrutiny-panel/
LOCATION:Springwell Gardens Community Centre\, Eastwood View\, Rotherham\, South Yorkshire\, S65 1NH\, United Kingdom
ATTACH;FMTTYPE=image/jpeg:https://www.rotherhamfederation.org/wp-content/uploads/2018/03/scrutiny.jpg
END:VEVENT
BEGIN:VEVENT
DTSTART;TZID=Europe/London:20180414T100000
DTEND;TZID=Europe/London:20180414T140000
DTSTAMP:20260425T160047
CREATED:20180319T161848Z
LAST-MODIFIED:20180319T161848Z
UID:698-1523700000-1523714400@www.rotherhamfederation.org
SUMMARY:Springwell Gardens Spring Clean
DESCRIPTION:Community litter pick.
URL:https://www.rotherhamfederation.org/event/springwell-gardens-spring-clean/
LOCATION:Springwell Gardens Community Centre\, Eastwood View\, Rotherham\, South Yorkshire\, S65 1NH\, United Kingdom
ATTACH;FMTTYPE=image/jpeg:https://www.rotherhamfederation.org/wp-content/uploads/2018/03/springwell-gardens-spring-clean.jpg
ORGANIZER;CN="Delton Taylor":MAILTO:delton.taylor@rotherfed.org
END:VEVENT
BEGIN:VEVENT
DTSTART;TZID=Europe/London:20180327T140000
DTEND;TZID=Europe/London:20180327T160000
DTSTAMP:20260425T160047
CREATED:20180117T135346Z
LAST-MODIFIED:20180320T074258Z
UID:471-1522159200-1522166400@www.rotherhamfederation.org
SUMMARY:AGM
DESCRIPTION:The AGM will be at 2pm on Tuesday 27th March 2018 at Rotherham Trades Club \nAgenda \nMinutes of 2017 \nFinal Accounts \nStalls \nWorkshops \nThere will be BSL interpreters at the meeting and pie and peas served at 4pm. There will also be an Easter Raffle.
URL:https://www.rotherhamfederation.org/event/agm/
LOCATION:Rotherham Trade Club\, Greasbrough Road\, Rotherham\, S60 1RB
ATTACH;FMTTYPE=image/jpeg:https://www.rotherhamfederation.org/wp-content/uploads/2018/01/AGM-1.jpg
END:VEVENT
BEGIN:VEVENT
DTSTART;TZID=Europe/London:20180322T100000
DTEND;TZID=Europe/London:20180322T160000
DTSTAMP:20260425T160047
CREATED:20180202T120908Z
LAST-MODIFIED:20180202T120908Z
UID:577-1521712800-1521734400@www.rotherhamfederation.org
SUMMARY:Safeguarding Training
DESCRIPTION:To book your place on this course please call 01709 368515 – a £5 refundable deposit is required to secure.
URL:https://www.rotherhamfederation.org/event/safeguarding-training/
LOCATION:Springwell Gardens Community Centre\, Eastwood View\, Rotherham\, South Yorkshire\, S65 1NH\, United Kingdom
END:VEVENT
BEGIN:VEVENT
DTSTART;TZID=Europe/London:20180321T100000
DTEND;TZID=Europe/London:20180321T160000
DTSTAMP:20260425T160047
CREATED:20180311T085112Z
LAST-MODIFIED:20180311T085112Z
UID:669-1521626400-1521648000@www.rotherhamfederation.org
SUMMARY:Introduction to Community Organising
DESCRIPTION:Rotherham Federation Social Action Hub are pleased to offer the one day Introduction to Community Organising workshop: \n10am-4pm \n21st March  2018 \n Springwell Gardens Community Centre \nThis is a CERTA accredited workshop for anyone currently working in their community or wishing to get involved in social action. \nPlease call 01709 368515 or email us to book your place. Lunch is provided.
URL:https://www.rotherhamfederation.org/event/introduction-to-community-organising/
LOCATION:Springwell Gardens Community Centre\, Eastwood View\, Rotherham\, South Yorkshire\, S65 1NH\, United Kingdom
END:VEVENT
BEGIN:VEVENT
DTSTART;TZID=Europe/London:20180313T140000
DTEND;TZID=Europe/London:20180313T160000
DTSTAMP:20260425T160047
CREATED:20180214T070743Z
LAST-MODIFIED:20180214T070743Z
UID:615-1520949600-1520956800@www.rotherhamfederation.org
SUMMARY:Slipper Swap
DESCRIPTION:Community Advice\, information and support
URL:https://www.rotherhamfederation.org/event/slipper-swap/
LOCATION:Springwell Gardens Community Centre\, Eastwood View\, Rotherham\, South Yorkshire\, S65 1NH\, United Kingdom
END:VEVENT
BEGIN:VEVENT
DTSTART;TZID=Europe/London:20180301T140000
DTEND;TZID=Europe/London:20180301T160000
DTSTAMP:20260425T160047
CREATED:20180211T092349Z
LAST-MODIFIED:20180211T092856Z
UID:603-1519912800-1519920000@www.rotherhamfederation.org
SUMMARY:Young Tenants Meeting
DESCRIPTION:A new group for young tenants is being set up and are seeking  young tenants aged 16 to 25 to join us and get involved. \nThe new group will develop around the needs of young tenant members. It is supported by staff from Target Housing and Rotherham Federation (Vicky Hilton). \nThis work has been made possible by funding from the Youth Social Action Fund. \nThe next meeting is 2pm on Thursday 1st March 2018 at Springwell Gardens Community Centre. All young council tenants welcome. \nContact us for more details.
URL:https://www.rotherhamfederation.org/event/young-tenants-meeting/
LOCATION:Springwell Gardens Community Centre\, Eastwood View\, Rotherham\, South Yorkshire\, S65 1NH\, United Kingdom
ATTACH;FMTTYPE=image/jpeg:https://www.rotherhamfederation.org/wp-content/uploads/2018/02/i-will.jpg
END:VEVENT
BEGIN:VEVENT
DTSTART;TZID=Europe/London:20180301T100000
DTEND;TZID=Europe/London:20180301T120000
DTSTAMP:20260425T160047
CREATED:20180117T134723Z
LAST-MODIFIED:20180224T185307Z
UID:461-1519898400-1519905600@www.rotherhamfederation.org
SUMMARY:Open Board Meeting
DESCRIPTION:The Rotherham Federation open board meeting will take place at Springwell Gardens Community Centre. \nAgenda \nThe meeting will include  a presentation of the Scrutiny Report on the Repairs Journey. \nScrutiny Report
URL:https://www.rotherhamfederation.org/event/open-board-meeting/
LOCATION:Springwell Gardens Community Centre\, Eastwood View\, Rotherham\, South Yorkshire\, S65 1NH\, United Kingdom
END:VEVENT
BEGIN:VEVENT
DTSTART;TZID=Europe/London:20180214T110000
DTEND;TZID=Europe/London:20180214T140000
DTSTAMP:20260425T160047
CREATED:20180126T120245Z
LAST-MODIFIED:20180126T120555Z
UID:534-1518606000-1518616800@www.rotherhamfederation.org
SUMMARY:One Billion Rising - Flash Mob
DESCRIPTION:
URL:https://www.rotherhamfederation.org/event/one-billion-rising-flash-mob/
LOCATION:All Saints Square\, Rotherham Town Centre
END:VEVENT
BEGIN:VEVENT
DTSTART;TZID=Europe/London:20180213T140000
DTEND;TZID=Europe/London:20180213T160000
DTSTAMP:20260425T160047
CREATED:20180211T092758Z
LAST-MODIFIED:20180211T092758Z
UID:606-1518530400-1518537600@www.rotherhamfederation.org
SUMMARY:New Friends Rotherham
DESCRIPTION:This event\, organised by British Red Cross and hosted by The Mayor of Rotherham\, Cllr Eve Rose Keenan\, will provide people who are lonely\, their carers\, friends and anyone else that provides support to people who may be lonely with information on the support and services available in Rotherham. \nTuesday 13th February 2018\, 2.00pm – 4.00 pm at Rotherham Town Hall (John Smiths Room). Tea/coffee will be available at 2.00 pm. \nThere will be 9 organisations represented at the event\, all who can provide some support or services to lonely people: \n\nAgeUK – representing older peoples service’s and Rotherham Older Peoples Forum – (support group for older people in Rotherham)\nRotherham Military Community Veteran’s Centre\nThe Rainbow Project – Rotherham LGTG Group\nREMA – Rotherham Ethnic Minority Association\nPOP’s – Rotherham Community Hub at Rawmarsh – (representing younger up to older people’s support services)\nRotherfed – representing Tennants and Residents Associations\nRotherham Community Transport\nCrossroads – Carers Organisation\nAnd\, of course\, The Red Cross\n\n \nThis event is for: \n\nPeople who are lonely\nPeople/professionals who work with lonely people who would like to know what is happening in Rotherham\nPeople who know someone who is lonely and would like information to help them\nPeople who wish to become volunteers to help lonely people\n\nAgenda \n\n2pm The Mayor will open the event with a welcome speech\, this will be followed by a short introduction to the event by The British Red Cross\n2.10pm Short talks from each organisation showcasing the work they do in respect of loneliness in Rotherham.\n3pm There will be a break for tea/coffee with a short performance by Open Minds Theatre Group about loneliness for disabled people.\n3.30pm  – Each organisation will provide a ‘case study’ to show what a difference they have made via their services (ending on a positive note).\n3.50pm – Event closure by Red Cross
URL:https://www.rotherhamfederation.org/event/new-friends-rotherham/
LOCATION:Rotherham Town Hall\, the Crofts\, Moorgate Street\, Rotherham\, S60 2TH\, United Kingdom
END:VEVENT
BEGIN:VEVENT
DTSTART;TZID=Europe/London:20180210T130000
DTEND;TZID=Europe/London:20180210T130000
DTSTAMP:20260425T160047
CREATED:20180126T122643Z
LAST-MODIFIED:20180126T122643Z
UID:545-1518267600-1518267600@www.rotherhamfederation.org
SUMMARY:One Billion Rising - Rehersal
DESCRIPTION:
URL:https://www.rotherhamfederation.org/event/one-billion-rising-rehersal-4/
LOCATION:Springwell Gardens Community Centre\, Eastwood View\, Rotherham\, South Yorkshire\, S65 1NH\, United Kingdom
END:VEVENT
BEGIN:VEVENT
DTSTART;TZID=Europe/London:20180208T170000
DTEND;TZID=Europe/London:20180208T183000
DTSTAMP:20260425T160047
CREATED:20180126T121504Z
LAST-MODIFIED:20180126T121504Z
UID:541-1518109200-1518114600@www.rotherhamfederation.org
SUMMARY:One Billion Rising - Rehersal
DESCRIPTION:
URL:https://www.rotherhamfederation.org/event/one-billion-rising-rehersal-2/
LOCATION:Springwell Gardens Community Centre\, Eastwood View\, Rotherham\, South Yorkshire\, S65 1NH\, United Kingdom
END:VEVENT
BEGIN:VEVENT
DTSTART;TZID=Europe/London:20180203T130000
DTEND;TZID=Europe/London:20180203T143000
DTSTAMP:20260425T160047
CREATED:20180126T121714Z
LAST-MODIFIED:20180127T141441Z
UID:543-1517662800-1517668200@www.rotherhamfederation.org
SUMMARY:One Billion Rising - Rehearsal
DESCRIPTION:
URL:https://www.rotherhamfederation.org/event/one-billion-rising-rehersal-3/
LOCATION:Springwell Gardens Community Centre\, Eastwood View\, Rotherham\, South Yorkshire\, S65 1NH\, United Kingdom
END:VEVENT
BEGIN:VEVENT
DTSTART;TZID=Europe/London:20180201T050000
DTEND;TZID=Europe/London:20180201T063000
DTSTAMP:20260425T160047
CREATED:20180126T120803Z
LAST-MODIFIED:20180127T141412Z
UID:538-1517461200-1517466600@www.rotherhamfederation.org
SUMMARY:One Billion Rising - Rehearsal
DESCRIPTION:
URL:https://www.rotherhamfederation.org/event/one-billion-rising-rehersal/
LOCATION:Springwell Gardens Community Centre\, Eastwood View\, Rotherham\, South Yorkshire\, S65 1NH\, United Kingdom
END:VEVENT
BEGIN:VEVENT
DTSTART;TZID=Europe/London:20180126T140000
DTEND;TZID=Europe/London:20180126T160000
DTSTAMP:20260425T160047
CREATED:20180113T143846Z
LAST-MODIFIED:20180124T201613Z
UID:450-1516975200-1516982400@www.rotherhamfederation.org
SUMMARY:Meeting on Future of Social Housing
DESCRIPTION:This meeting is now full. \nThe Future of Social Housing is the subject of a major Rotherham Federation meeting on Friday 26th January 2018. Speakers include John Healey MP Shadow Minister of Housing\, Cllr Dominic Beck RMBC Cabinet Member for Housing and Neighbourhoods\,  John Bibby Chief Executive Officer of the Association of Retained Council Housing and Lilian Shears Vice Chair of Rotherham Federation. \nAs well as speakers\, there will be workshops on number of themes including building more social housing\, who is social housing for\, the perception of social housing tenants and the role of tenants’ voices. Pie and peas will be served at the end of the meeting. \nOne of the organisers Steve Ruffle CEO of Rotherham Federation said “having a safe and secure home is important to all of us. As well as the Labour Party’s review of social housing\, the Government plans to release a Housing Green Paper in the next few weeks. This meeting comes at an opportune time as the future of social housing is a key issue for our time.” \nHe added “tenants’ voices are more important now than ever and we encourage people to get involved with both these important reviews\, come to the meeting and have a say”. \nThe meeting will be held between 2pm and 4pm at Springwell Gardens Community Centre. Places are free but must be booked in advance. Please contact Rotherham Federation on 01709 368515 or email info@rotherfed.org to confirm your place. Springwell Gardens Community Centre is on Eastwood View near Doncaster Road. 115 and 37 buses from the town centre regularly stop nearby\, alight at Herons supermarket. \nSpeakers \nWorkshops
URL:https://www.rotherhamfederation.org/event/meeting-on-future-of-social-housing/
LOCATION:Springwell Gardens Community Centre\, Eastwood View\, Rotherham\, South Yorkshire\, S65 1NH\, United Kingdom
ATTACH;FMTTYPE=image/png:https://www.rotherhamfederation.org/wp-content/uploads/2018/01/houses.png
END:VEVENT
BEGIN:VEVENT
DTSTART;TZID=Europe/London:20180123T100000
DTEND;TZID=Europe/London:20180123T120000
DTSTAMP:20260425T160047
CREATED:20180113T143416Z
LAST-MODIFIED:20180113T143545Z
UID:447-1516701600-1516708800@www.rotherhamfederation.org
SUMMARY:Rotherham Digital Incluson Network
DESCRIPTION:Everyone is welcome to this open meeting at Springwell Gardens Community Centre. \nThe network is a group of volunteers and staff working and supporting people to get online. \nAgenda on this website soon.
URL:https://www.rotherhamfederation.org/event/rotherham-digital-incluson-network/
LOCATION:Springwell Gardens Community Centre\, Eastwood View\, Rotherham\, South Yorkshire\, S65 1NH\, United Kingdom
ATTACH;FMTTYPE=image/jpeg:https://www.rotherhamfederation.org/wp-content/uploads/2018/01/digital-champions2.jpg
END:VEVENT
BEGIN:VEVENT
DTSTART;TZID=Europe/London:20180118T150000
DTEND;TZID=Europe/London:20180118T170000
DTSTAMP:20260425T160047
CREATED:20180113T144307Z
LAST-MODIFIED:20180113T144307Z
UID:453-1516287600-1516294800@www.rotherhamfederation.org
SUMMARY:Young Tenants Group
DESCRIPTION:All young tenants welcome to this initial meet-up.
URL:https://www.rotherhamfederation.org/event/young-tenants-group/
LOCATION:Springwell Gardens Community Centre\, Eastwood View\, Rotherham\, South Yorkshire\, S65 1NH\, United Kingdom
END:VEVENT
END:VCALENDAR