BEGIN:VCALENDAR
VERSION:2.0
PRODID:-//Rotherham Federation - ECPv6.6.3//NONSGML v1.0//EN
CALSCALE:GREGORIAN
METHOD:PUBLISH
X-WR-CALNAME:Rotherham Federation
X-ORIGINAL-URL:https://www.rotherhamfederation.org
X-WR-CALDESC:Events for Rotherham Federation
REFRESH-INTERVAL;VALUE=DURATION:PT1H
X-Robots-Tag:noindex
X-PUBLISHED-TTL:PT1H
BEGIN:VTIMEZONE
TZID:Europe/London
BEGIN:DAYLIGHT
TZOFFSETFROM:+0000
TZOFFSETTO:+0100
TZNAME:BST
DTSTART:20180325T010000
END:DAYLIGHT
BEGIN:STANDARD
TZOFFSETFROM:+0100
TZOFFSETTO:+0000
TZNAME:GMT
DTSTART:20181028T010000
END:STANDARD
END:VTIMEZONE
BEGIN:VEVENT
DTSTART;TZID=Europe/London:20181107T130000
DTEND;TZID=Europe/London:20181107T150000
DTSTAMP:20260423T210203
CREATED:20180831T153654Z
LAST-MODIFIED:20180831T153654Z
UID:1112-1541595600-1541602800@www.rotherhamfederation.org
SUMMARY:Introduction to Funding Bids
DESCRIPTION:£5 refundable deposit required to guarantee your place.
URL:https://www.rotherhamfederation.org/event/introduction-to-funding-bids/
LOCATION:Springwell Gardens Community Centre\, Eastwood View\, Rotherham\, South Yorkshire\, S65 1NH\, United Kingdom
CATEGORIES:Training
ATTACH;FMTTYPE=image/jpeg:https://www.rotherhamfederation.org/wp-content/uploads/2018/08/introduction-to-funding.jpg
ORGANIZER;CN="Victoria.Hobson":MAILTO:victoria.hobson@rotherfed.org
END:VEVENT
BEGIN:VEVENT
DTSTART;TZID=Europe/London:20181026T080000
DTEND;TZID=Europe/London:20181026T170000
DTSTAMP:20260423T210203
CREATED:20181026T125225Z
LAST-MODIFIED:20181026T125235Z
UID:1209-1540540800-1540573200@www.rotherhamfederation.org
SUMMARY:Emergency First Aid At Work - Springwell
DESCRIPTION:Thursday 13th December 2018 \nSpringwell Gardens Community Centre\, Eastwood View\, S65 1NH \n9am – 3pm \nBook your place by calling us on 01709 368515 or by emailing info@rotherfed.org \nA £5 refundable deposit is required prior to the training to book your place. \nLUNCH IS NOT INCLUDED \n 
URL:https://www.rotherhamfederation.org/event/emergency-first-aid-at-work-springwell/
LOCATION:South Yorkshire
END:VEVENT
BEGIN:VEVENT
DTSTART;TZID=Europe/London:20181018T090000
DTEND;TZID=Europe/London:20181018T150000
DTSTAMP:20260423T210203
CREATED:20180802T121622Z
LAST-MODIFIED:20230605T124104Z
UID:958-1539853200-1539874800@www.rotherhamfederation.org
SUMMARY:Food Hygiene
DESCRIPTION:A 5 refundable deposit will secure your place. \n 
URL:https://www.rotherhamfederation.org/event/food-hygiene/
LOCATION:Springwell Gardens Community Centre\, Eastwood View\, Rotherham\, South Yorkshire\, S65 1NH\, United Kingdom
ATTACH;FMTTYPE=image/jpeg:https://www.rotherhamfederation.org/wp-content/uploads/2018/08/food-hygiene.jpg
END:VEVENT
BEGIN:VEVENT
DTSTART;TZID=Europe/London:20181012T140000
DTEND;TZID=Europe/London:20181012T160000
DTSTAMP:20260423T210203
CREATED:20180923T104923Z
LAST-MODIFIED:20180923T105006Z
UID:1156-1539352800-1539360000@www.rotherhamfederation.org
SUMMARY:Community Cafe in Town Hall?
DESCRIPTION:There will be an informal conversation with Rotherham Council officers to explore the possibility/options  of setting up a community owned café in Rotherham Town Hall. The informal discussion will be  at 2pm on Friday 12th October 2018 in the Town Hall and is open to all. \n  \nIf you are interested in setting up a community owned café in the Town Hall come along and find our more.
URL:https://www.rotherhamfederation.org/event/community-cafe-in-town-hall/
LOCATION:Rotherham Town Hall\, the Crofts\, Moorgate Street\, Rotherham\, S60 2TH\, United Kingdom
ORGANIZER;CN="Steve Ruffle":MAILTO:steve.ruffle@rotherfed.org
END:VEVENT
BEGIN:VEVENT
DTSTART;TZID=Europe/London:20181011T130000
DTEND;TZID=Europe/London:20181011T150000
DTSTAMP:20260423T210203
CREATED:20181006T103054Z
LAST-MODIFIED:20181006T141733Z
UID:1145-1539262800-1539270000@www.rotherhamfederation.org
SUMMARY:Social Housing Green Paper Workshop
DESCRIPTION:Date: Thursday 11th October 2018\nTime: 1pm – 3pm\nVenue: Springwell Gardens Community Centre \nsocial housing workshop agenda \nThe workshop will look at the Social Housing Green Paper and develop a collective response which will be sent to the Government enabling Rotherham Tenants and Residents’ voices be heard on a national scale. \nTo book your place please contact us on 01709 368515 or email us on info@rotherfed.org
URL:https://www.rotherhamfederation.org/event/social-green-paper-workshop/
LOCATION:Springwell Gardens Community Centre\, Eastwood View\, Rotherham\, South Yorkshire\, S65 1NH\, United Kingdom
CATEGORIES:Meeting
END:VEVENT
BEGIN:VEVENT
DTSTART;TZID=Europe/London:20181011T100000
DTEND;TZID=Europe/London:20181011T120000
DTSTAMP:20260423T210203
CREATED:20180831T154156Z
LAST-MODIFIED:20180831T154156Z
UID:1119-1539252000-1539259200@www.rotherhamfederation.org
SUMMARY:Social Media Training
DESCRIPTION:£5 refundable deposit is needed to confirm your place.
URL:https://www.rotherhamfederation.org/event/social-media-training/
LOCATION:Springwell Gardens Community Centre\, Eastwood View\, Rotherham\, South Yorkshire\, S65 1NH\, United Kingdom
CATEGORIES:Training
ATTACH;FMTTYPE=image/jpeg:https://www.rotherhamfederation.org/wp-content/uploads/2018/08/social-media-training.jpg
END:VEVENT
BEGIN:VEVENT
DTSTART;TZID=Europe/London:20181004T100000
DTEND;TZID=Europe/London:20181004T150000
DTSTAMP:20260423T210203
CREATED:20180804T092756Z
LAST-MODIFIED:20180814T145942Z
UID:974-1538647200-1538665200@www.rotherhamfederation.org
SUMMARY:Connecting Communities 3
DESCRIPTION:We will cover: \n\nPublicity\nSocial Media\nMarketing
URL:https://www.rotherhamfederation.org/event/connecting-communities-3/
LOCATION:Springwell Gardens Community Centre\, Eastwood View\, Rotherham\, South Yorkshire\, S65 1NH\, United Kingdom
CATEGORIES:Training
ATTACH;FMTTYPE=image/png:https://www.rotherhamfederation.org/wp-content/uploads/2018/08/Connecting-Communities.png
ORGANIZER;CN="Victoria.Hobson":MAILTO:victoria.hobson@rotherfed.org
END:VEVENT
BEGIN:VEVENT
DTSTART;TZID=Europe/London:20180928T100000
DTEND;TZID=Europe/London:20180928T160000
DTSTAMP:20260423T210203
CREATED:20180831T150755Z
LAST-MODIFIED:20180831T150755Z
UID:1103-1538128800-1538150400@www.rotherhamfederation.org
SUMMARY:Introduction to Community Organising
DESCRIPTION:£5 refundable deposit required to confirm your place.
URL:https://www.rotherhamfederation.org/event/introduction-to-community-organising-2/
LOCATION:Springwell Gardens Community Centre\, Eastwood View\, Rotherham\, South Yorkshire\, S65 1NH\, United Kingdom
CATEGORIES:Training
ATTACH;FMTTYPE=image/jpeg:https://www.rotherhamfederation.org/wp-content/uploads/2018/08/introduction-to-community-organising.jpg
ORGANIZER;CN="Victoria.Hobson":MAILTO:victoria.hobson@rotherfed.org
END:VEVENT
BEGIN:VEVENT
DTSTART;TZID=Europe/London:20180927T100000
DTEND;TZID=Europe/London:20180927T160000
DTSTAMP:20260423T210203
CREATED:20180804T092629Z
LAST-MODIFIED:20180814T145844Z
UID:972-1538042400-1538064000@www.rotherhamfederation.org
SUMMARY:Connecting Communities 2
DESCRIPTION:We will cover: \n\nPersonal skills and values\nNetworking\nFunding\nListening
URL:https://www.rotherhamfederation.org/event/connecting-communities-2/
LOCATION:Springwell Gardens Community Centre\, Eastwood View\, Rotherham\, South Yorkshire\, S65 1NH\, United Kingdom
CATEGORIES:Training
ATTACH;FMTTYPE=image/png:https://www.rotherhamfederation.org/wp-content/uploads/2018/08/Connecting-Communities.png
END:VEVENT
BEGIN:VEVENT
DTSTART;TZID=Europe/London:20180926T100000
DTEND;TZID=Europe/London:20180926T120000
DTSTAMP:20260423T210203
CREATED:20180913T082656Z
LAST-MODIFIED:20180913T082656Z
UID:1133-1537956000-1537963200@www.rotherhamfederation.org
SUMMARY:Young Persons Financial Inclusion Workshop
DESCRIPTION:Young tenants welcome. to this free workshop.
URL:https://www.rotherhamfederation.org/event/young-persons-financial-inclusion-workshop/
LOCATION:Springwell Gardens Community Centre\, Eastwood View\, Rotherham\, South Yorkshire\, S65 1NH\, United Kingdom
CATEGORIES:Training
ATTACH;FMTTYPE=image/jpeg:https://www.rotherhamfederation.org/wp-content/uploads/2018/09/financial-inclusion.jpg
ORGANIZER;CN="louise kelly":MAILTO:louise.kelly@targethousing.org.uk
END:VEVENT
BEGIN:VEVENT
DTSTART;TZID=Europe/London:20180925T100000
DTEND;TZID=Europe/London:20180925T123000
DTSTAMP:20260423T210203
CREATED:20180804T092041Z
LAST-MODIFIED:20180922T124803Z
UID:966-1537869600-1537878600@www.rotherhamfederation.org
SUMMARY:Digital Champions Training
DESCRIPTION:Rotherham Federation of Communities is seeking to recruit volunteer digital champions  to help Rotherham residents get online. Digital Champions are local people who are already using the internet and who will gain through training the skills needed to be a Volunteer Digital Champion and the necessary knowledge to help communicate the benefits of going online. \nTo be a Digital Champion\, you will need a willingness to help and support other residents to get online\, a friendly helpful attitude that can encourage people\, good basic skills in using computers and tablets and a willingness to undertake a free DBS check which will enable you to work with vulnerable residents. \nAn initial training  and induction session for people wishing to become Digital Champions will be held  between 10am and 12.30pm on  Tuesday 25th September at  Springwell Gardens Community Centre where you can find out more about the becoming and  Volunteer Digital Champion and what it will involve. Refreshments will be provided. \nMore details are available from steve.ruffle@rotherfed.org  or by phoning 01709 368515. Springwell Gardens Community Centre is on Eastwood View in Rotherham. \n\nprogramme 250918
URL:https://www.rotherhamfederation.org/event/digital-champions-training/
LOCATION:Springwell Gardens Community Centre\, Eastwood View\, Rotherham\, South Yorkshire\, S65 1NH\, United Kingdom
ATTACH;FMTTYPE=image/png:https://www.rotherhamfederation.org/wp-content/uploads/2018/08/250918-Digital-Champions-Traning.png
ORGANIZER;CN="Steve Ruffle":MAILTO:steve.ruffle@rotherfed.org
END:VEVENT
BEGIN:VEVENT
DTSTART;TZID=Europe/London:20180920T100000
DTEND;TZID=Europe/London:20180920T160000
DTSTAMP:20260423T210203
CREATED:20180804T092511Z
LAST-MODIFIED:20180814T145703Z
UID:969-1537437600-1537459200@www.rotherhamfederation.org
SUMMARY:Connecting Communities 1
DESCRIPTION:We will cover: \n\nWhat is a community\nTypes of groups\nRoles\nConflict
URL:https://www.rotherhamfederation.org/event/connecting-communities-1/
LOCATION:Springwell Gardens Community Centre\, Eastwood View\, Rotherham\, South Yorkshire\, S65 1NH\, United Kingdom
CATEGORIES:Training
ATTACH;FMTTYPE=image/png:https://www.rotherhamfederation.org/wp-content/uploads/2018/08/Connecting-Communities.png
ORGANIZER;CN="Victoria.Hobson":MAILTO:victoria.hobson@rotherfed.org
END:VEVENT
BEGIN:VEVENT
DTSTART;TZID=Europe/London:20180908T100000
DTEND;TZID=Europe/London:20180908T170000
DTSTAMP:20260423T210203
CREATED:20180120T143913Z
LAST-MODIFIED:20180120T143913Z
UID:504-1536400800-1536426000@www.rotherhamfederation.org
SUMMARY:Housing Hub at Rotherham Show
DESCRIPTION:Rotherham Federation will be part of the Housing Hub at Rotherham Show 2018 in Clifton Park.
URL:https://www.rotherhamfederation.org/event/housing-hub-at-rotherham-show/
LOCATION:Clifton Park\, Rotherham\, S65 2BH
END:VEVENT
BEGIN:VEVENT
DTSTART;TZID=Europe/London:20180904T100000
DTEND;TZID=Europe/London:20180904T160000
DTSTAMP:20260423T210203
CREATED:20180802T084700Z
LAST-MODIFIED:20180802T084730Z
UID:950-1536055200-1536076800@www.rotherhamfederation.org
SUMMARY:Safeguarding
DESCRIPTION:A £5 refundable deposit will secure this place on this course.
URL:https://www.rotherhamfederation.org/event/safeguarding/
LOCATION:Springwell Gardens Community Centre\, Eastwood View\, Rotherham\, South Yorkshire\, S65 1NH\, United Kingdom
ATTACH;FMTTYPE=image/jpeg:https://www.rotherhamfederation.org/wp-content/uploads/2018/08/safeguarding.jpg
END:VEVENT
BEGIN:VEVENT
DTSTART;TZID=Europe/London:20180830T100000
DTEND;TZID=Europe/London:20180830T120000
DTSTAMP:20260423T210203
CREATED:20180117T134934Z
LAST-MODIFIED:20180727T102023Z
UID:465-1535623200-1535630400@www.rotherhamfederation.org
SUMMARY:Open Board Meeting
DESCRIPTION:The Rotherham Federation open board meeting will take place at Springwell Gardens Community Centre. \nThe meeting will include a presentation of the tenant scrutiny report on repairs journey.
URL:https://www.rotherhamfederation.org/event/open-board-meeting-3/
LOCATION:Springwell Gardens Community Centre\, Eastwood View\, Rotherham\, South Yorkshire\, S65 1NH\, United Kingdom
ATTACH;FMTTYPE=image/jpeg:https://www.rotherhamfederation.org/wp-content/uploads/2018/01/30aug18.jpg
END:VEVENT
BEGIN:VEVENT
DTSTART;TZID=Europe/London:20180823T120000
DTEND;TZID=Europe/London:20180823T140000
DTSTAMP:20260423T210203
CREATED:20180802T084957Z
LAST-MODIFIED:20180804T173314Z
UID:954-1535025600-1535032800@www.rotherhamfederation.org
SUMMARY:Insurance for your Group
DESCRIPTION:Facilitated by Ladbrooks Insurance \, this sessions includes a free lunch \n\n 
URL:https://www.rotherhamfederation.org/event/insurance-for-your-group/
LOCATION:Springwell Gardens Community Centre\, Eastwood View\, Rotherham\, South Yorkshire\, S65 1NH\, United Kingdom
CATEGORIES:Training
ATTACH;FMTTYPE=image/jpeg:https://www.rotherhamfederation.org/wp-content/uploads/2018/08/Insurance-Training-230818.jpg
ORGANIZER;CN="Steve Ruffle":MAILTO:steve.ruffle@rotherfed.org
END:VEVENT
BEGIN:VEVENT
DTSTART;TZID=Europe/London:20180821T100000
DTEND;TZID=Europe/London:20180821T130000
DTSTAMP:20260423T210203
CREATED:20180804T091453Z
LAST-MODIFIED:20180804T091453Z
UID:964-1534845600-1534856400@www.rotherhamfederation.org
SUMMARY:Benefits Advice
DESCRIPTION:Free drop -in \, you may have to wait for an appointment
URL:https://www.rotherhamfederation.org/event/benefits-advice-3/
LOCATION:Springwell Gardens Community Centre\, Eastwood View\, Rotherham\, South Yorkshire\, S65 1NH\, United Kingdom
ATTACH;FMTTYPE=image/jpeg:https://www.rotherhamfederation.org/wp-content/uploads/2018/06/advice.jpg
END:VEVENT
BEGIN:VEVENT
DTSTART;TZID=Europe/London:20180814T100000
DTEND;TZID=Europe/London:20180814T130000
DTSTAMP:20260423T210203
CREATED:20180804T091208Z
LAST-MODIFIED:20180804T091208Z
UID:961-1534240800-1534251600@www.rotherhamfederation.org
SUMMARY:Benefits Advice
DESCRIPTION:Free Benefits Advice – this is a drop in so you may have to wait for an appointment.
URL:https://www.rotherhamfederation.org/event/benefits-advice-2/
LOCATION:Springwell Gardens Community Centre\, Eastwood View\, Rotherham\, South Yorkshire\, S65 1NH\, United Kingdom
ATTACH;FMTTYPE=image/jpeg:https://www.rotherhamfederation.org/wp-content/uploads/2018/06/advice.jpg
END:VEVENT
BEGIN:VEVENT
DTSTART;TZID=Europe/London:20180811T100000
DTEND;TZID=Europe/London:20180811T120000
DTSTAMP:20260423T210203
CREATED:20180722T111027Z
LAST-MODIFIED:20180722T111027Z
UID:931-1533981600-1533988800@www.rotherhamfederation.org
SUMMARY:Rockingham Litter Pick
DESCRIPTION:Please come and join us.
URL:https://www.rotherhamfederation.org/event/rockingham-litter-pick/
LOCATION:Town Lane\, Rockingham\, Rotherham
ATTACH;FMTTYPE=image/jpeg:https://www.rotherhamfederation.org/wp-content/uploads/2018/07/Rockingham-wingfield-litter-pick-poster.jpg
END:VEVENT
BEGIN:VEVENT
DTSTART;TZID=Europe/London:20180809T120000
DTEND;TZID=Europe/London:20180809T150000
DTSTAMP:20260423T210203
CREATED:20180722T110759Z
LAST-MODIFIED:20180722T110831Z
UID:927-1533816000-1533826800@www.rotherhamfederation.org
SUMMARY:Basic Life Support
DESCRIPTION:The course is run by SAFA Training
URL:https://www.rotherhamfederation.org/event/basic-life-support/
LOCATION:Springwell Gardens Community Centre\, Eastwood View\, Rotherham\, South Yorkshire\, S65 1NH\, United Kingdom
ATTACH;FMTTYPE=image/jpeg:https://www.rotherhamfederation.org/wp-content/uploads/2018/07/basic-life-support.jpg
END:VEVENT
BEGIN:VEVENT
DTSTART;TZID=Europe/London:20180807T100000
DTEND;TZID=Europe/London:20180807T130000
DTSTAMP:20260423T210203
CREATED:20180708T065747Z
LAST-MODIFIED:20180802T084417Z
UID:912-1533636000-1533646800@www.rotherhamfederation.org
SUMMARY:Free Benefits Advice
DESCRIPTION:Free Benefits advice every week in partnership with Barnsley DIAL
URL:https://www.rotherhamfederation.org/event/free-benefits-advice-3/
LOCATION:Springwell Gardens Community Centre\, Eastwood View\, Rotherham\, South Yorkshire\, S65 1NH\, United Kingdom
ATTACH;FMTTYPE=image/jpeg:https://www.rotherhamfederation.org/wp-content/uploads/2018/06/advice.jpg
END:VEVENT
BEGIN:VEVENT
DTSTART;TZID=Europe/London:20180806T183000
DTEND;TZID=Europe/London:20180806T200000
DTSTAMP:20260423T210203
CREATED:20180805T075034Z
LAST-MODIFIED:20180805T081130Z
UID:988-1533580200-1533585600@www.rotherhamfederation.org
SUMMARY:Thurcroft Big Local Partnership
DESCRIPTION:All welcome to the Thurcroft Big Local Partnership meeting 6.30pm this Monday 6th August 2018 at Thurcroft Hub – find out more about what we do. \nhttp://www.thurcroftbiglocal.org.uk/wp-content/uploads/2018/08/agenda-6th-August-2018.pdf \n 
URL:https://www.rotherhamfederation.org/event/thurcroft-big-local-partnership/
LOCATION:Thurcroft Hub\, New Orchard Lane\, Rotherham\, S66 9AE\, United Kingdom
CATEGORIES:Meeting
ATTACH;FMTTYPE=image/jpeg:https://www.rotherhamfederation.org/wp-content/uploads/2018/08/6aug2018biglocalmeeting.jpg
END:VEVENT
BEGIN:VEVENT
DTSTART;TZID=Europe/London:20180801T100000
DTEND;TZID=Europe/London:20180801T160000
DTSTAMP:20260423T210203
CREATED:20180628T161948Z
LAST-MODIFIED:20180708T063731Z
UID:887-1533117600-1533139200@www.rotherhamfederation.org
SUMMARY:Equalities and Diversity Training
DESCRIPTION:This one day course will encourage participants to recognize and understand the requirements of The Equality Act (2010)\, to assess their own responsibilities/opportunities/inclinations to promote equality\, celebrate diversity\, \nIn a relaxed and informal atmosphere\, participants will explore notions of inclusion\, exclusion and identity. Through key texts/handouts\, group exercises and discussion\, the group will be encouraged to recognise prejudice\, consider discrimination and its disabling consequences and work towards inclusive practice. There will be the opportunity to explore the historical\, political\, legal and social context of progress towards greater equality of opportunity. \nEmail us to confirm your place (£5 refundable deposit required)
URL:https://www.rotherhamfederation.org/event/equalities-and-diversity-training/
LOCATION:Springwell Gardens Community Centre\, Eastwood View\, Rotherham\, South Yorkshire\, S65 1NH\, United Kingdom
ATTACH;FMTTYPE=image/jpeg:https://www.rotherhamfederation.org/wp-content/uploads/2018/06/equalities-and-diversity.jpg
END:VEVENT
BEGIN:VEVENT
DTSTART;TZID=Europe/London:20180728T120000
DTEND;TZID=Europe/London:20180728T170000
DTSTAMP:20260423T210203
CREATED:20180708T065157Z
LAST-MODIFIED:20180708T065157Z
UID:905-1532779200-1532797200@www.rotherhamfederation.org
SUMMARY:Thurcroft Gala
DESCRIPTION:Free entry \nMeet the dinosaur
URL:https://www.rotherhamfederation.org/event/thurcroft-gala/
LOCATION:Thurcroft Hub\, New Orchard Lane\, Rotherham\, S66 9AE\, United Kingdom
ATTACH;FMTTYPE=image/jpeg:https://www.rotherhamfederation.org/wp-content/uploads/2018/07/Gala-2018.jpg
END:VEVENT
BEGIN:VEVENT
DTSTART;TZID=Europe/London:20180726T130000
DTEND;TZID=Europe/London:20180726T150000
DTSTAMP:20260423T210203
CREATED:20180722T110037Z
LAST-MODIFIED:20180722T110037Z
UID:919-1532610000-1532617200@www.rotherhamfederation.org
SUMMARY:Schools Out
DESCRIPTION:Children and Families Activity Day
URL:https://www.rotherhamfederation.org/event/schools-out/
LOCATION:Springwell Gardens Community Centre\, Eastwood View\, Rotherham\, South Yorkshire\, S65 1NH\, United Kingdom
ATTACH;FMTTYPE=image/jpeg:https://www.rotherhamfederation.org/wp-content/uploads/2018/07/schools-out.jpg
END:VEVENT
BEGIN:VEVENT
DTSTART;TZID=Europe/London:20180724T100000
DTEND;TZID=Europe/London:20180724T130000
DTSTAMP:20260423T210203
CREATED:20180708T065638Z
LAST-MODIFIED:20180708T065638Z
UID:910-1532426400-1532437200@www.rotherhamfederation.org
SUMMARY:Free Benefits Advice
DESCRIPTION:Free Benefits advice every week in partnership with Barnsley DIAL
URL:https://www.rotherhamfederation.org/event/free-benefits-advice-2/
LOCATION:Springwell Gardens Community Centre\, Eastwood View\, Rotherham\, South Yorkshire\, S65 1NH\, United Kingdom
ATTACH;FMTTYPE=image/jpeg:https://www.rotherhamfederation.org/wp-content/uploads/2018/06/advice.jpg
END:VEVENT
BEGIN:VEVENT
DTSTART;TZID=Europe/London:20180718T100000
DTEND;TZID=Europe/London:20180718T150000
DTSTAMP:20260423T210203
CREATED:20180707T143003Z
LAST-MODIFIED:20180707T143003Z
UID:895-1531908000-1531926000@www.rotherhamfederation.org
SUMMARY:Visit to Northern College
DESCRIPTION:Bus trip to set off from Springwell Gardens a 3pm. \nTrip includes tour of grounds.
URL:https://www.rotherhamfederation.org/event/visit-to-northern-college/
LOCATION:Springwell Gardens Community Centre\, Eastwood View\, Rotherham\, South Yorkshire\, S65 1NH\, United Kingdom
ATTACH;FMTTYPE=image/jpeg:https://www.rotherhamfederation.org/wp-content/uploads/2018/07/northern.jpg
END:VEVENT
BEGIN:VEVENT
DTSTART;TZID=Europe/London:20180717T100000
DTEND;TZID=Europe/London:20180717T170000
DTSTAMP:20260423T210203
CREATED:20180708T065520Z
LAST-MODIFIED:20180708T065520Z
UID:908-1531821600-1531846800@www.rotherhamfederation.org
SUMMARY:Free Benefits Advice
DESCRIPTION:Free Benefits advice every week in partnership with Barnsley DIAL
URL:https://www.rotherhamfederation.org/event/free-benefits-advice/
LOCATION:Springwell Gardens Community Centre\, Eastwood View\, Rotherham\, South Yorkshire\, S65 1NH\, United Kingdom
ATTACH;FMTTYPE=image/jpeg:https://www.rotherhamfederation.org/wp-content/uploads/2018/06/advice.jpg
END:VEVENT
BEGIN:VEVENT
DTSTART;TZID=Europe/London:20180714T103000
DTEND;TZID=Europe/London:20180714T180000
DTSTAMP:20260423T210203
CREATED:20180707T142638Z
LAST-MODIFIED:20180707T142646Z
UID:892-1531564200-1531591200@www.rotherhamfederation.org
SUMMARY:Rotherham Pride
DESCRIPTION:Rotherham Federation will be joining both the march beginning on Church Street at 10.30am  and have a stall at Rotherham Pridee event in Clifton Park between 12 noon and 6pm. \nOur theme on the march is unicorns. \nBritish Sign Language interpreters will be available on the day.
URL:https://www.rotherhamfederation.org/event/rotherham-pride/
LOCATION:Clifton Park\, Rotherham\, S65 2BH
ATTACH;FMTTYPE=image/jpeg:https://www.rotherhamfederation.org/wp-content/uploads/2018/07/rotherham-pride.jpg
END:VEVENT
BEGIN:VEVENT
DTSTART;TZID=Europe/London:20180712T100000
DTEND;TZID=Europe/London:20180712T160000
DTSTAMP:20260423T210203
CREATED:20180405T091724Z
LAST-MODIFIED:20180405T091724Z
UID:781-1531389600-1531411200@www.rotherhamfederation.org
SUMMARY:Safeguarding Training
DESCRIPTION:Places must be booked in advance on 01709 368515 or by email
URL:https://www.rotherhamfederation.org/event/safeguarding-training-2/
LOCATION:Springwell Gardens Community Centre\, Eastwood View\, Rotherham\, South Yorkshire\, S65 1NH\, United Kingdom
ATTACH;FMTTYPE=image/jpeg:https://www.rotherhamfederation.org/wp-content/uploads/2018/04/safeguarding.jpg
ORGANIZER;CN="Steve Ruffle":MAILTO:steve.ruffle@rotherfed.org
END:VEVENT
END:VCALENDAR