BEGIN:VCALENDAR
VERSION:2.0
PRODID:-//Rotherham Federation - ECPv6.6.3//NONSGML v1.0//EN
CALSCALE:GREGORIAN
METHOD:PUBLISH
X-WR-CALNAME:Rotherham Federation
X-ORIGINAL-URL:https://www.rotherhamfederation.org
X-WR-CALDESC:Events for Rotherham Federation
REFRESH-INTERVAL;VALUE=DURATION:PT1H
X-Robots-Tag:noindex
X-PUBLISHED-TTL:PT1H
BEGIN:VTIMEZONE
TZID:Europe/London
BEGIN:DAYLIGHT
TZOFFSETFROM:+0000
TZOFFSETTO:+0100
TZNAME:BST
DTSTART:20180325T010000
END:DAYLIGHT
BEGIN:STANDARD
TZOFFSETFROM:+0100
TZOFFSETTO:+0000
TZNAME:GMT
DTSTART:20181028T010000
END:STANDARD
END:VTIMEZONE
BEGIN:VEVENT
DTSTART;TZID=Europe/London:20180203T130000
DTEND;TZID=Europe/London:20180203T143000
DTSTAMP:20260425T211230
CREATED:20180126T121714Z
LAST-MODIFIED:20180127T141441Z
UID:543-1517662800-1517668200@www.rotherhamfederation.org
SUMMARY:One Billion Rising - Rehearsal
DESCRIPTION:
URL:https://www.rotherhamfederation.org/event/one-billion-rising-rehersal-3/
LOCATION:Springwell Gardens Community Centre\, Eastwood View\, Rotherham\, South Yorkshire\, S65 1NH\, United Kingdom
END:VEVENT
BEGIN:VEVENT
DTSTART;TZID=Europe/London:20180201T050000
DTEND;TZID=Europe/London:20180201T063000
DTSTAMP:20260425T211230
CREATED:20180126T120803Z
LAST-MODIFIED:20180127T141412Z
UID:538-1517461200-1517466600@www.rotherhamfederation.org
SUMMARY:One Billion Rising - Rehearsal
DESCRIPTION:
URL:https://www.rotherhamfederation.org/event/one-billion-rising-rehersal/
LOCATION:Springwell Gardens Community Centre\, Eastwood View\, Rotherham\, South Yorkshire\, S65 1NH\, United Kingdom
END:VEVENT
BEGIN:VEVENT
DTSTART;TZID=Europe/London:20180126T140000
DTEND;TZID=Europe/London:20180126T160000
DTSTAMP:20260425T211230
CREATED:20180113T143846Z
LAST-MODIFIED:20180124T201613Z
UID:450-1516975200-1516982400@www.rotherhamfederation.org
SUMMARY:Meeting on Future of Social Housing
DESCRIPTION:This meeting is now full. \nThe Future of Social Housing is the subject of a major Rotherham Federation meeting on Friday 26th January 2018. Speakers include John Healey MP Shadow Minister of Housing\, Cllr Dominic Beck RMBC Cabinet Member for Housing and Neighbourhoods\,  John Bibby Chief Executive Officer of the Association of Retained Council Housing and Lilian Shears Vice Chair of Rotherham Federation. \nAs well as speakers\, there will be workshops on number of themes including building more social housing\, who is social housing for\, the perception of social housing tenants and the role of tenants’ voices. Pie and peas will be served at the end of the meeting. \nOne of the organisers Steve Ruffle CEO of Rotherham Federation said “having a safe and secure home is important to all of us. As well as the Labour Party’s review of social housing\, the Government plans to release a Housing Green Paper in the next few weeks. This meeting comes at an opportune time as the future of social housing is a key issue for our time.” \nHe added “tenants’ voices are more important now than ever and we encourage people to get involved with both these important reviews\, come to the meeting and have a say”. \nThe meeting will be held between 2pm and 4pm at Springwell Gardens Community Centre. Places are free but must be booked in advance. Please contact Rotherham Federation on 01709 368515 or email info@rotherfed.org to confirm your place. Springwell Gardens Community Centre is on Eastwood View near Doncaster Road. 115 and 37 buses from the town centre regularly stop nearby\, alight at Herons supermarket. \nSpeakers \nWorkshops
URL:https://www.rotherhamfederation.org/event/meeting-on-future-of-social-housing/
LOCATION:Springwell Gardens Community Centre\, Eastwood View\, Rotherham\, South Yorkshire\, S65 1NH\, United Kingdom
ATTACH;FMTTYPE=image/png:https://www.rotherhamfederation.org/wp-content/uploads/2018/01/houses.png
END:VEVENT
BEGIN:VEVENT
DTSTART;TZID=Europe/London:20180123T100000
DTEND;TZID=Europe/London:20180123T120000
DTSTAMP:20260425T211230
CREATED:20180113T143416Z
LAST-MODIFIED:20180113T143545Z
UID:447-1516701600-1516708800@www.rotherhamfederation.org
SUMMARY:Rotherham Digital Incluson Network
DESCRIPTION:Everyone is welcome to this open meeting at Springwell Gardens Community Centre. \nThe network is a group of volunteers and staff working and supporting people to get online. \nAgenda on this website soon.
URL:https://www.rotherhamfederation.org/event/rotherham-digital-incluson-network/
LOCATION:Springwell Gardens Community Centre\, Eastwood View\, Rotherham\, South Yorkshire\, S65 1NH\, United Kingdom
ATTACH;FMTTYPE=image/jpeg:https://www.rotherhamfederation.org/wp-content/uploads/2018/01/digital-champions2.jpg
END:VEVENT
BEGIN:VEVENT
DTSTART;TZID=Europe/London:20180118T150000
DTEND;TZID=Europe/London:20180118T170000
DTSTAMP:20260425T211230
CREATED:20180113T144307Z
LAST-MODIFIED:20180113T144307Z
UID:453-1516287600-1516294800@www.rotherhamfederation.org
SUMMARY:Young Tenants Group
DESCRIPTION:All young tenants welcome to this initial meet-up.
URL:https://www.rotherhamfederation.org/event/young-tenants-group/
LOCATION:Springwell Gardens Community Centre\, Eastwood View\, Rotherham\, South Yorkshire\, S65 1NH\, United Kingdom
END:VEVENT
END:VCALENDAR