BEGIN:VCALENDAR
VERSION:2.0
PRODID:-//Rotherham Federation - ECPv6.6.3//NONSGML v1.0//EN
CALSCALE:GREGORIAN
METHOD:PUBLISH
X-ORIGINAL-URL:https://www.rotherhamfederation.org
X-WR-CALDESC:Events for Rotherham Federation
REFRESH-INTERVAL;VALUE=DURATION:PT1H
X-Robots-Tag:noindex
X-PUBLISHED-TTL:PT1H
BEGIN:VTIMEZONE
TZID:Europe/London
BEGIN:DAYLIGHT
TZOFFSETFROM:+0000
TZOFFSETTO:+0100
TZNAME:BST
DTSTART:20220327T010000
END:DAYLIGHT
BEGIN:STANDARD
TZOFFSETFROM:+0100
TZOFFSETTO:+0000
TZNAME:GMT
DTSTART:20221030T010000
END:STANDARD
END:VTIMEZONE
BEGIN:VEVENT
DTSTART;TZID=Europe/London:20220405T100000
DTEND;TZID=Europe/London:20220405T140000
DTSTAMP:20260422T234846
CREATED:20220308T075220Z
LAST-MODIFIED:20220308T075220Z
UID:6590-1649152800-1649167200@www.rotherhamfederation.org
SUMMARY:Rotherfed Community Solutions Event
DESCRIPTION:Come and talk to Making our Money go Further\, Energy Know How\, Befriending support\, Volunteer Support\,  RMBC\, Voluntary Action Rotherham\, South Yorkshire Fire\, REMA\, Age UK and Rotherham United Community Sports Trust. \nIts your One Stop Information Shop
URL:https://www.rotherhamfederation.org/event/rotherfed-community-solutions-event/
LOCATION:AESSEAL New York Stadium\, New York Way\, Rotherham\, S60 1FJ
END:VEVENT
BEGIN:VEVENT
DTSTART;TZID=Europe/London:20220413T080000
DTEND;TZID=Europe/London:20220413T170000
DTSTAMP:20260422T234846
CREATED:20220308T080129Z
LAST-MODIFIED:20220308T080129Z
UID:6595-1649836800-1649869200@www.rotherhamfederation.org
SUMMARY:Coffee Morning with Rotherfed
DESCRIPTION:Everyone is welcome to join us for a coffee morning at Springwell Gardens Community Centre.  Meet other local Rotherham residents and invite your friends and family
URL:https://www.rotherhamfederation.org/event/coffee-morning-with-rotherfed/
LOCATION:Springwell Gardens Community Centre\, Eastwood View\, Rotherham\, South Yorkshire\, S65 1NH\, United Kingdom
END:VEVENT
BEGIN:VEVENT
DTSTART;TZID=Europe/London:20220426T180000
DTEND;TZID=Europe/London:20220426T200000
DTSTAMP:20260422T234846
CREATED:20220308T080257Z
LAST-MODIFIED:20220308T080339Z
UID:6597-1650996000-1651003200@www.rotherhamfederation.org
SUMMARY:RMBC Tenants Pizza Night
DESCRIPTION:RMBC Tenants\, join us at Springwell for a Pizza evening to meet other local tenants in your area and find out more about the services on offer for you.  Enjoy some free pizza while you chat \nFor more information and to confirm your spot please email carrie.kurt@rotherfed.org
URL:https://www.rotherhamfederation.org/event/rmbc-tenants-pizza-night/
LOCATION:South Yorkshire
END:VEVENT
BEGIN:VEVENT
DTSTART;TZID=Europe/London:20220613T103000
DTEND;TZID=Europe/London:20220613T123000
DTSTAMP:20260422T234846
CREATED:20220527T112430Z
LAST-MODIFIED:20220527T112430Z
UID:6870-1655116200-1655123400@www.rotherhamfederation.org
SUMMARY:Tenant Scrutiny Meeting
DESCRIPTION:
URL:https://www.rotherhamfederation.org/event/tenant-scrutiny-meeting-9/
LOCATION:Springwell Gardens Community Centre\, Eastwood View\, Rotherham\, South Yorkshire\, S65 1NH\, United Kingdom
CATEGORIES:Meeting
ORGANIZER;CN="Rotherham Federation":MAILTO:info@rotherfed.org
END:VEVENT
BEGIN:VEVENT
DTSTART;TZID=Europe/London:20220711T103000
DTEND;TZID=Europe/London:20220711T123000
DTSTAMP:20260422T234846
CREATED:20220527T112632Z
LAST-MODIFIED:20220527T112632Z
UID:6872-1657535400-1657542600@www.rotherhamfederation.org
SUMMARY:Tenant Scrutiny Meeting
DESCRIPTION:
URL:https://www.rotherhamfederation.org/event/tenant-scrutiny-meeting-10/
LOCATION:Springwell Gardens Community Centre\, Eastwood View\, Rotherham\, South Yorkshire\, S65 1NH\, United Kingdom
CATEGORIES:Meeting
ORGANIZER;CN="Rotherham Federation":MAILTO:info@rotherfed.org
END:VEVENT
BEGIN:VEVENT
DTSTART;TZID=Europe/London:20220808T103000
DTEND;TZID=Europe/London:20220808T123000
DTSTAMP:20260422T234846
CREATED:20220527T112754Z
LAST-MODIFIED:20220527T112754Z
UID:6874-1659954600-1659961800@www.rotherhamfederation.org
SUMMARY:Tenant Scrutiny Meeting
DESCRIPTION:
URL:https://www.rotherhamfederation.org/event/tenant-scrutiny-meeting-11/
LOCATION:Springwell Gardens Community Centre\, Eastwood View\, Rotherham\, South Yorkshire\, S65 1NH\, United Kingdom
CATEGORIES:Meeting
ORGANIZER;CN="Rotherham Federation":MAILTO:info@rotherfed.org
END:VEVENT
BEGIN:VEVENT
DTSTART;TZID=Europe/London:20220912T103000
DTEND;TZID=Europe/London:20220912T123000
DTSTAMP:20260422T234846
CREATED:20220527T131317Z
LAST-MODIFIED:20220527T131317Z
UID:6876-1662978600-1662985800@www.rotherhamfederation.org
SUMMARY:Tenant Scrutiny Meeting
DESCRIPTION:
URL:https://www.rotherhamfederation.org/event/tenant-scrutiny-meeting-12/
LOCATION:Springwell Gardens Community Centre\, Eastwood View\, Rotherham\, South Yorkshire\, S65 1NH\, United Kingdom
CATEGORIES:Meeting
ORGANIZER;CN="Rotherham Federation":MAILTO:info@rotherfed.org
END:VEVENT
BEGIN:VEVENT
DTSTART;TZID=Europe/London:20220929T100000
DTEND;TZID=Europe/London:20220929T140000
DTSTAMP:20260422T234846
CREATED:20220831T084658Z
LAST-MODIFIED:20220831T084658Z
UID:7152-1664445600-1664460000@www.rotherhamfederation.org
SUMMARY:Tenants Open Day 2022
DESCRIPTION:The Tenants’ Open Day is back!\n\n\nOpen to all Council housing tenants’\, this is your chance to find out what’s happening in housing services\, find out about local groups & put your questions to members of staff.\n\n\nBooking is essential – https://www.rotherham.gov.uk/xfp/form/1098
URL:https://www.rotherhamfederation.org/event/tenants-open-day-2022/
LOCATION:AESSEAL New York Stadium\, New York Way\, Rotherham\, S60 1FJ
END:VEVENT
BEGIN:VEVENT
DTSTART;TZID=Europe/London:20221010T103000
DTEND;TZID=Europe/London:20221010T123000
DTSTAMP:20260422T234846
CREATED:20220527T131413Z
LAST-MODIFIED:20220527T131413Z
UID:6878-1665397800-1665405000@www.rotherhamfederation.org
SUMMARY:Tenant Scrutiny Meeting
DESCRIPTION:
URL:https://www.rotherhamfederation.org/event/tenant-scrutiny-meeting-13/
LOCATION:Springwell Gardens Community Centre\, Eastwood View\, Rotherham\, South Yorkshire\, S65 1NH\, United Kingdom
CATEGORIES:Meeting
ORGANIZER;CN="Rotherham Federation":MAILTO:info@rotherfed.org
END:VEVENT
BEGIN:VEVENT
DTSTART;TZID=Europe/London:20221114T103000
DTEND;TZID=Europe/London:20221114T123000
DTSTAMP:20260422T234846
CREATED:20220527T131747Z
LAST-MODIFIED:20220527T131747Z
UID:6880-1668421800-1668429000@www.rotherhamfederation.org
SUMMARY:Tenant Scrutiny Meeting
DESCRIPTION:
URL:https://www.rotherhamfederation.org/event/tenant-scrutiny-meeting-14/
LOCATION:Springwell Gardens Community Centre\, Eastwood View\, Rotherham\, South Yorkshire\, S65 1NH\, United Kingdom
CATEGORIES:Meeting
ORGANIZER;CN="Rotherham Federation":MAILTO:info@rotherfed.org
END:VEVENT
BEGIN:VEVENT
DTSTART;TZID=Europe/London:20221212T103000
DTEND;TZID=Europe/London:20221212T123000
DTSTAMP:20260422T234846
CREATED:20220527T131842Z
LAST-MODIFIED:20220527T131842Z
UID:6882-1670841000-1670848200@www.rotherhamfederation.org
SUMMARY:Tenant Scrutiny Meeting
DESCRIPTION:
URL:https://www.rotherhamfederation.org/event/tenant-scrutiny-meeting-15/
LOCATION:Springwell Gardens Community Centre\, Eastwood View\, Rotherham\, South Yorkshire\, S65 1NH\, United Kingdom
CATEGORIES:Meeting
ORGANIZER;CN="Rotherham Federation":MAILTO:info@rotherfed.org
END:VEVENT
END:VCALENDAR