BEGIN:VCALENDAR
VERSION:2.0
PRODID:-//Rotherham Federation - ECPv6.6.3//NONSGML v1.0//EN
CALSCALE:GREGORIAN
METHOD:PUBLISH
X-WR-CALNAME:Rotherham Federation
X-ORIGINAL-URL:https://www.rotherhamfederation.org
X-WR-CALDESC:Events for Rotherham Federation
REFRESH-INTERVAL;VALUE=DURATION:PT1H
X-Robots-Tag:noindex
X-PUBLISHED-TTL:PT1H
BEGIN:VTIMEZONE
TZID:Europe/London
BEGIN:DAYLIGHT
TZOFFSETFROM:+0000
TZOFFSETTO:+0100
TZNAME:BST
DTSTART:20200329T010000
END:DAYLIGHT
BEGIN:STANDARD
TZOFFSETFROM:+0100
TZOFFSETTO:+0000
TZNAME:GMT
DTSTART:20201025T010000
END:STANDARD
END:VTIMEZONE
BEGIN:VEVENT
DTSTART;TZID=Europe/London:20200311T100000
DTEND;TZID=Europe/London:20200311T120000
DTSTAMP:20260419T153826
CREATED:20200306T121249Z
LAST-MODIFIED:20200306T121249Z
UID:4078-1583920800-1583928000@www.rotherhamfederation.org
SUMMARY:Ferham Open Day
DESCRIPTION:
URL:https://www.rotherhamfederation.org/event/ferham-open-day/
LOCATION:St Paul’s Church\, 139 Kimberworth Road\, Rotherham\, S61 1AH
CATEGORIES:Open Day
END:VEVENT
END:VCALENDAR