BEGIN:VCALENDAR
VERSION:2.0
PRODID:-//Rotherham Federation - ECPv6.6.3//NONSGML v1.0//EN
CALSCALE:GREGORIAN
METHOD:PUBLISH
X-WR-CALNAME:Rotherham Federation
X-ORIGINAL-URL:https://www.rotherhamfederation.org
X-WR-CALDESC:Events for Rotherham Federation
REFRESH-INTERVAL;VALUE=DURATION:PT1H
X-Robots-Tag:noindex
X-PUBLISHED-TTL:PT1H
BEGIN:VTIMEZONE
TZID:Europe/London
BEGIN:DAYLIGHT
TZOFFSETFROM:+0000
TZOFFSETTO:+0100
TZNAME:BST
DTSTART:20200329T010000
END:DAYLIGHT
BEGIN:STANDARD
TZOFFSETFROM:+0100
TZOFFSETTO:+0000
TZNAME:GMT
DTSTART:20201025T010000
END:STANDARD
END:VTIMEZONE
BEGIN:VEVENT
DTSTART;TZID=Europe/London:20200324T120000
DTEND;TZID=Europe/London:20200324T150000
DTSTAMP:20260422T072236
CREATED:20200115T101317Z
LAST-MODIFIED:20200313T114926Z
UID:3259-1585051200-1585062000@www.rotherhamfederation.org
SUMMARY:Annual General Meeting - Rotherham Federation of Communities
DESCRIPTION:We will be holding our Annual General Meeting at Springwell Gardens Community Centre from 12pm.  As well as formal business and accounts presentation\, we will also be highlighting the work Rotherham Federation does in the community. \nA pie and pea lunch will be served \nAll places must be booked – please call 01709 368515 or email info@rotherfed.org to reserve your place
URL:https://www.rotherhamfederation.org/event/annual-general-meeting-rotherham-federation-of-communities/
LOCATION:Springwell Gardens Community Centre\, Eastwood View\, Rotherham\, South Yorkshire\, S65 1NH\, United Kingdom
CATEGORIES:Meeting
END:VEVENT
END:VCALENDAR