BEGIN:VCALENDAR
VERSION:2.0
PRODID:-//Rotherham Federation - ECPv6.6.3//NONSGML v1.0//EN
CALSCALE:GREGORIAN
METHOD:PUBLISH
X-WR-CALNAME:Rotherham Federation
X-ORIGINAL-URL:https://www.rotherhamfederation.org
X-WR-CALDESC:Events for Rotherham Federation
REFRESH-INTERVAL;VALUE=DURATION:PT1H
X-Robots-Tag:noindex
X-PUBLISHED-TTL:PT1H
BEGIN:VTIMEZONE
TZID:Europe/London
BEGIN:DAYLIGHT
TZOFFSETFROM:+0000
TZOFFSETTO:+0100
TZNAME:BST
DTSTART:20200329T010000
END:DAYLIGHT
BEGIN:STANDARD
TZOFFSETFROM:+0100
TZOFFSETTO:+0000
TZNAME:GMT
DTSTART:20201025T010000
END:STANDARD
END:VTIMEZONE
BEGIN:VEVENT
DTSTART;VALUE=DATE:20200508
DTEND;VALUE=DATE:20200509
DTSTAMP:20260421T160227
CREATED:20200115T102126Z
LAST-MODIFIED:20200313T121330Z
UID:3281-1588896000-1588982399@www.rotherhamfederation.org
SUMMARY:Office Closed
DESCRIPTION:Rotherham Federation’s Office will be closed for Bank Holiday.  Our office will re open 9am on Monday 11th May 2020 from 9am
URL:https://www.rotherhamfederation.org/event/office-closed-2/
CATEGORIES:Closed
END:VEVENT
BEGIN:VEVENT
DTSTART;VALUE=DATE:20200525
DTEND;VALUE=DATE:20200526
DTSTAMP:20260421T160227
CREATED:20200115T102336Z
LAST-MODIFIED:20200313T121612Z
UID:3283-1590364800-1590451199@www.rotherhamfederation.org
SUMMARY:Office Closed
DESCRIPTION:Our office is closed today for Spring Bank Holiday – Our office will re open Tuesday 26th May 2020 from 9am
URL:https://www.rotherhamfederation.org/event/office-closed-3/
CATEGORIES:Closed
END:VEVENT
END:VCALENDAR