BEGIN:VCALENDAR
VERSION:2.0
PRODID:-//Rotherham Federation - ECPv6.6.3//NONSGML v1.0//EN
CALSCALE:GREGORIAN
METHOD:PUBLISH
X-ORIGINAL-URL:https://www.rotherhamfederation.org
X-WR-CALDESC:Events for Rotherham Federation
REFRESH-INTERVAL;VALUE=DURATION:PT1H
X-Robots-Tag:noindex
X-PUBLISHED-TTL:PT1H
BEGIN:VTIMEZONE
TZID:Europe/London
BEGIN:DAYLIGHT
TZOFFSETFROM:+0000
TZOFFSETTO:+0100
TZNAME:BST
DTSTART:20220327T010000
END:DAYLIGHT
BEGIN:STANDARD
TZOFFSETFROM:+0100
TZOFFSETTO:+0000
TZNAME:GMT
DTSTART:20221030T010000
END:STANDARD
END:VTIMEZONE
BEGIN:VEVENT
DTSTART;TZID=Europe/London:20220324T120000
DTEND;TZID=Europe/London:20220324T140000
DTSTAMP:20260422T161926
CREATED:20220308T075949Z
LAST-MODIFIED:20220308T075949Z
UID:6593-1648123200-1648130400@www.rotherhamfederation.org
SUMMARY:RMBC Tenants Buffet Lunch
DESCRIPTION:RMBC Tenants\, join us for a Buffet Lunch at Springwell Gardens to meet other local tenants in your area and find out more about the services on offer for you.  Get your voice heard.
URL:https://www.rotherhamfederation.org/event/rmbc-tenants-buffet-lunch/
LOCATION:Springwell Gardens Community Centre\, Eastwood View\, Rotherham\, South Yorkshire\, S65 1NH\, United Kingdom
END:VEVENT
END:VCALENDAR