BEGIN:VCALENDAR
VERSION:2.0
PRODID:-//Rotherham Federation - ECPv6.6.3//NONSGML v1.0//EN
CALSCALE:GREGORIAN
METHOD:PUBLISH
X-ORIGINAL-URL:https://www.rotherhamfederation.org
X-WR-CALDESC:Events for Rotherham Federation
REFRESH-INTERVAL;VALUE=DURATION:PT1H
X-Robots-Tag:noindex
X-PUBLISHED-TTL:PT1H
BEGIN:VTIMEZONE
TZID:Europe/London
BEGIN:DAYLIGHT
TZOFFSETFROM:+0000
TZOFFSETTO:+0100
TZNAME:BST
DTSTART:20210328T010000
END:DAYLIGHT
BEGIN:STANDARD
TZOFFSETFROM:+0100
TZOFFSETTO:+0000
TZNAME:GMT
DTSTART:20211031T010000
END:STANDARD
END:VTIMEZONE
BEGIN:VEVENT
DTSTART;TZID=Europe/London:20211115T130000
DTEND;TZID=Europe/London:20211115T150000
DTSTAMP:20260422T234536
CREATED:20211103T122738Z
LAST-MODIFIED:20211103T122738Z
UID:6332-1636981200-1636988400@www.rotherhamfederation.org
SUMMARY:Job Club/Benefits
DESCRIPTION:Join the club on Monday 15th November at the Unity Centre to search for jobs\, update/create a CV\, and apply for job applications with the aid of an advisor. \nYou can also get advice on benefits you may be entitled to and how to apply \nTo book please email claire.stinson@rotherfed.org or karen.jay@rotherfed.org with your name and phone number \nYou can also text or call 07398 013796 to book
URL:https://www.rotherhamfederation.org/event/job-club-benefits/
LOCATION:unity cente\, St Leonards Road\, Rotherham\, S65 1PD\, United Kingdom
END:VEVENT
END:VCALENDAR