BEGIN:VCALENDAR
VERSION:2.0
PRODID:-//Rotherham Federation - ECPv6.6.3//NONSGML v1.0//EN
CALSCALE:GREGORIAN
METHOD:PUBLISH
X-ORIGINAL-URL:https://www.rotherhamfederation.org
X-WR-CALDESC:Events for Rotherham Federation
REFRESH-INTERVAL;VALUE=DURATION:PT1H
X-Robots-Tag:noindex
X-PUBLISHED-TTL:PT1H
BEGIN:VTIMEZONE
TZID:Europe/London
BEGIN:DAYLIGHT
TZOFFSETFROM:+0000
TZOFFSETTO:+0100
TZNAME:BST
DTSTART:20210328T010000
END:DAYLIGHT
BEGIN:STANDARD
TZOFFSETFROM:+0100
TZOFFSETTO:+0000
TZNAME:GMT
DTSTART:20211031T010000
END:STANDARD
END:VTIMEZONE
BEGIN:VEVENT
DTSTART;TZID=Europe/London:20210929T100000
DTEND;TZID=Europe/London:20210929T120000
DTSTAMP:20260423T011437
CREATED:20210906T144913Z
LAST-MODIFIED:20210906T144913Z
UID:6170-1632909600-1632916800@www.rotherhamfederation.org
SUMMARY:Tenant Voice Coffee Morning
DESCRIPTION:
URL:https://www.rotherhamfederation.org/event/tenant-voice-coffee-morning/
LOCATION:Springwell Gardens Community Centre\, Eastwood View\, Rotherham\, South Yorkshire\, S65 1NH\, United Kingdom
ORGANIZER;CN="Jane Owen":MAILTO:jane.owen@rotherfed.org
END:VEVENT
END:VCALENDAR