BEGIN:VCALENDAR
VERSION:2.0
PRODID:-//Rotherham Federation - ECPv6.6.3//NONSGML v1.0//EN
CALSCALE:GREGORIAN
METHOD:PUBLISH
X-WR-CALNAME:Rotherham Federation
X-ORIGINAL-URL:https://www.rotherhamfederation.org
X-WR-CALDESC:Events for Rotherham Federation
REFRESH-INTERVAL;VALUE=DURATION:PT1H
X-Robots-Tag:noindex
X-PUBLISHED-TTL:PT1H
BEGIN:VTIMEZONE
TZID:Europe/London
BEGIN:DAYLIGHT
TZOFFSETFROM:+0000
TZOFFSETTO:+0100
TZNAME:BST
DTSTART:20210328T010000
END:DAYLIGHT
BEGIN:STANDARD
TZOFFSETFROM:+0100
TZOFFSETTO:+0000
TZNAME:GMT
DTSTART:20211031T010000
END:STANDARD
END:VTIMEZONE
BEGIN:VEVENT
DTSTART;TZID=Europe/London:20210920T130000
DTEND;TZID=Europe/London:20210920T140000
DTSTAMP:20260423T024319
CREATED:20210806T144605Z
LAST-MODIFIED:20210806T144605Z
UID:6091-1632142800-1632146400@www.rotherhamfederation.org
SUMMARY:Job Club / Benefits Advice Club – 1pm
DESCRIPTION:For more details please contact Claire Stinson on 07398013796 / claire.stinson@rotherfed.org or Karen Jay on 07398 013824 / karen.jay@rotherfed.org
URL:https://www.rotherhamfederation.org/event/job-club-benefits-advice-club-1pm/
LOCATION:South Yorkshire
END:VEVENT
END:VCALENDAR