BEGIN:VCALENDAR
VERSION:2.0
PRODID:-//Rotherham Federation - ECPv6.6.3//NONSGML v1.0//EN
CALSCALE:GREGORIAN
METHOD:PUBLISH
X-WR-CALNAME:Rotherham Federation
X-ORIGINAL-URL:https://www.rotherhamfederation.org
X-WR-CALDESC:Events for Rotherham Federation
REFRESH-INTERVAL;VALUE=DURATION:PT1H
X-Robots-Tag:noindex
X-PUBLISHED-TTL:PT1H
BEGIN:VTIMEZONE
TZID:Europe/London
BEGIN:DAYLIGHT
TZOFFSETFROM:+0000
TZOFFSETTO:+0100
TZNAME:BST
DTSTART:20210328T010000
END:DAYLIGHT
BEGIN:STANDARD
TZOFFSETFROM:+0100
TZOFFSETTO:+0000
TZNAME:GMT
DTSTART:20211031T010000
END:STANDARD
END:VTIMEZONE
BEGIN:VEVENT
DTSTART;TZID=Europe/London:20210910T100000
DTEND;TZID=Europe/London:20210910T140000
DTSTAMP:20260423T024320
CREATED:20210803T142648Z
LAST-MODIFIED:20210803T142648Z
UID:6058-1631268000-1631282400@www.rotherhamfederation.org
SUMMARY:Making Your Money Go Further Pop Up Stall
DESCRIPTION:The stall will be located at Maltby Service Station on Tickhill Road. Hellaby and Maltby West\, and Maltby East Ward Councillors will be present. \n  \nFor more details please contact Claire Stinson on 07398013796 / claire.stinson@rotherfed.org or Karen Jay on 07398 013824
URL:https://www.rotherhamfederation.org/event/making-your-money-go-further-pop-up-stall-2/
LOCATION:South Yorkshire
END:VEVENT
END:VCALENDAR