BEGIN:VCALENDAR
VERSION:2.0
PRODID:-//Rotherham Federation - ECPv6.6.3//NONSGML v1.0//EN
CALSCALE:GREGORIAN
METHOD:PUBLISH
X-WR-CALNAME:Rotherham Federation
X-ORIGINAL-URL:https://www.rotherhamfederation.org
X-WR-CALDESC:Events for Rotherham Federation
REFRESH-INTERVAL;VALUE=DURATION:PT1H
X-Robots-Tag:noindex
X-PUBLISHED-TTL:PT1H
BEGIN:VTIMEZONE
TZID:Europe/London
BEGIN:DAYLIGHT
TZOFFSETFROM:+0000
TZOFFSETTO:+0100
TZNAME:BST
DTSTART:20210328T010000
END:DAYLIGHT
BEGIN:STANDARD
TZOFFSETFROM:+0100
TZOFFSETTO:+0000
TZNAME:GMT
DTSTART:20211031T010000
END:STANDARD
END:VTIMEZONE
BEGIN:VEVENT
DTSTART;TZID=Europe/London:20210826T110000
DTEND;TZID=Europe/London:20210826T140000
DTSTAMP:20260423T040430
CREATED:20210803T145108Z
LAST-MODIFIED:20210812T115438Z
UID:6078-1629975600-1629986400@www.rotherhamfederation.org
SUMMARY:Making Our Money Go Further – Social Supermarket
DESCRIPTION:Every Wednesday and Thursday we are at Social Supermarket at Rotherham Minster 11:00-14:00. Until the end of August. \n  \nFor more details please contact Claire Stinson on 07398013796 / claire.stinson@rotherfed.org or Karen Jay on 07398 013824 / karen.jay@rotherfed.org
URL:https://www.rotherhamfederation.org/event/making-our-money-go-further-social-supermarket-8/
LOCATION:South Yorkshire
END:VEVENT
END:VCALENDAR