BEGIN:VCALENDAR
VERSION:2.0
PRODID:-//Rotherham Federation - ECPv6.6.3//NONSGML v1.0//EN
CALSCALE:GREGORIAN
METHOD:PUBLISH
X-ORIGINAL-URL:https://www.rotherhamfederation.org
X-WR-CALDESC:Events for Rotherham Federation
REFRESH-INTERVAL;VALUE=DURATION:PT1H
X-Robots-Tag:noindex
X-PUBLISHED-TTL:PT1H
BEGIN:VTIMEZONE
TZID:Europe/London
BEGIN:DAYLIGHT
TZOFFSETFROM:+0000
TZOFFSETTO:+0100
TZNAME:BST
DTSTART:20210328T010000
END:DAYLIGHT
BEGIN:STANDARD
TZOFFSETFROM:+0100
TZOFFSETTO:+0000
TZNAME:GMT
DTSTART:20211031T010000
END:STANDARD
END:VTIMEZONE
BEGIN:VEVENT
DTSTART;TZID=Europe/London:20210816T010000
DTEND;TZID=Europe/London:20210816T140000
DTSTAMP:20260423T040549
CREATED:20210806T144225Z
LAST-MODIFIED:20210806T144416Z
UID:6084-1629075600-1629122400@www.rotherhamfederation.org
SUMMARY:Job Club / Benefits Advice Club - 1pm
DESCRIPTION: 
URL:https://www.rotherhamfederation.org/event/job-club-benefits-advice-club/
LOCATION:South Yorkshire
END:VEVENT
BEGIN:VEVENT
DTSTART;TZID=Europe/London:20210816T140000
DTEND;TZID=Europe/London:20210816T150000
DTSTAMP:20260423T040549
CREATED:20210806T144340Z
LAST-MODIFIED:20210806T144340Z
UID:6088-1629122400-1629126000@www.rotherhamfederation.org
SUMMARY:Job Club / Benefits Advice Club - 2pm
DESCRIPTION: 
URL:https://www.rotherhamfederation.org/event/job-club-benefits-advice-club-2pm/
LOCATION:South Yorkshire
END:VEVENT
END:VCALENDAR