BEGIN:VCALENDAR
VERSION:2.0
PRODID:-//Rotherham Federation - ECPv6.6.3//NONSGML v1.0//EN
CALSCALE:GREGORIAN
METHOD:PUBLISH
X-ORIGINAL-URL:https://www.rotherhamfederation.org
X-WR-CALDESC:Events for Rotherham Federation
REFRESH-INTERVAL;VALUE=DURATION:PT1H
X-Robots-Tag:noindex
X-PUBLISHED-TTL:PT1H
BEGIN:VTIMEZONE
TZID:Europe/London
BEGIN:DAYLIGHT
TZOFFSETFROM:+0000
TZOFFSETTO:+0100
TZNAME:BST
DTSTART:20200329T010000
END:DAYLIGHT
BEGIN:STANDARD
TZOFFSETFROM:+0100
TZOFFSETTO:+0000
TZNAME:GMT
DTSTART:20201025T010000
END:STANDARD
END:VTIMEZONE
BEGIN:VEVENT
DTSTART;TZID=Europe/London:20200210T103000
DTEND;TZID=Europe/London:20200210T123000
DTSTAMP:20260424T121551
CREATED:20191217T095906Z
LAST-MODIFIED:20191217T095906Z
UID:2865-1581330600-1581337800@www.rotherhamfederation.org
SUMMARY:Tenant Scrutiny
DESCRIPTION:
URL:https://www.rotherhamfederation.org/event/tenant-scrutiny-2/
LOCATION:Springwell Gardens Community Centre\, Eastwood View\, Rotherham\, South Yorkshire\, S65 1NH\, United Kingdom
END:VEVENT
BEGIN:VEVENT
DTSTART;TZID=Europe/London:20200210T130000
DTEND;TZID=Europe/London:20200210T150000
DTSTAMP:20260424T121551
CREATED:20200115T112502Z
LAST-MODIFIED:20200115T112502Z
UID:3330-1581339600-1581346800@www.rotherhamfederation.org
SUMMARY:Eastwood Litterpickers
DESCRIPTION:For more information please contact Rob Gooding on 01709 368515
URL:https://www.rotherhamfederation.org/event/eastwood-litterpickers/
LOCATION:MyPlace\, St Ann's Road\, Rotherham\, S65 1PH
END:VEVENT
END:VCALENDAR