BEGIN:VCALENDAR
VERSION:2.0
PRODID:-//Rotherham Federation - ECPv6.6.3//NONSGML v1.0//EN
CALSCALE:GREGORIAN
METHOD:PUBLISH
X-ORIGINAL-URL:https://www.rotherhamfederation.org
X-WR-CALDESC:Events for Rotherham Federation
REFRESH-INTERVAL;VALUE=DURATION:PT1H
X-Robots-Tag:noindex
X-PUBLISHED-TTL:PT1H
BEGIN:VTIMEZONE
TZID:Europe/London
BEGIN:DAYLIGHT
TZOFFSETFROM:+0000
TZOFFSETTO:+0100
TZNAME:BST
DTSTART:20200329T010000
END:DAYLIGHT
BEGIN:STANDARD
TZOFFSETFROM:+0100
TZOFFSETTO:+0000
TZNAME:GMT
DTSTART:20201025T010000
END:STANDARD
END:VTIMEZONE
BEGIN:VEVENT
DTSTART;TZID=Europe/London:20200131T100000
DTEND;TZID=Europe/London:20200131T150000
DTSTAMP:20260424T121544
CREATED:20191217T094547Z
LAST-MODIFIED:20191217T094547Z
UID:2845-1580464800-1580482800@www.rotherhamfederation.org
SUMMARY:Rotherham Deaf Futures - Deaf Social
DESCRIPTION:Rotherham Deaf Futures are holding their Deaf Social sessions on Fridays at Springwell Gardens Community Centre\, 10am – 3pm.
URL:https://www.rotherhamfederation.org/event/rotherham-deaf-futures-deaf-social-30/
LOCATION:Springwell Gardens Community Centre\, Eastwood View\, Rotherham\, South Yorkshire\, S65 1NH\, United Kingdom
END:VEVENT
BEGIN:VEVENT
DTSTART;TZID=Europe/London:20200131T110000
DTEND;TZID=Europe/London:20200131T130000
DTSTAMP:20260424T121544
CREATED:20200124T090345Z
LAST-MODIFIED:20200124T090413Z
UID:3457-1580468400-1580475600@www.rotherhamfederation.org
SUMMARY:Get Connected with Digital Dan
DESCRIPTION:Get Connected is a free community service that supports people struggling to access online services and benefits\, helping you develop the necessary skills and knowledge to make the most of the internet.\nDigital Dan will be at Sedge Close Neighbourhood Centre\, Bramley every Friday from 11am. Everyone is welcome to attend. Bring your device or borrow one of ours
URL:https://www.rotherhamfederation.org/event/get-connected-with-digital-dan-3/
LOCATION:Sedge Close Neighbourhood Centre\, Sedge Close\, Rotherham\, S66 1TF\, United Kingdom
END:VEVENT
BEGIN:VEVENT
DTSTART;TZID=Europe/London:20200131T140000
DTEND;TZID=Europe/London:20200131T160000
DTSTAMP:20260424T121544
CREATED:20200124T091327Z
LAST-MODIFIED:20200124T091327Z
UID:3463-1580479200-1580486400@www.rotherhamfederation.org
SUMMARY:Get Connected with Digital Dan
DESCRIPTION:Get Connected is a free community service that supports people struggling to access online services and benefits\, helping you develop the necessary skills and knowledge to make the most of the internet.\nDigital Dan will be at Mark Grove Neighbourhood Centre\, Flanderwell every Thursday from 2pm. Everyone is welcome to attend. Bring your device or borrow one of ours
URL:https://www.rotherhamfederation.org/event/get-connected-with-digital-dan-5/
LOCATION:Mark Grove Neighbourhood Centre\, Mark Grove\, Rotherham\, S66 2UZ\, United Kingdom
END:VEVENT
END:VCALENDAR