BEGIN:VCALENDAR
VERSION:2.0
PRODID:-//Rotherham Federation - ECPv6.6.3//NONSGML v1.0//EN
CALSCALE:GREGORIAN
METHOD:PUBLISH
X-ORIGINAL-URL:https://www.rotherhamfederation.org
X-WR-CALDESC:Events for Rotherham Federation
REFRESH-INTERVAL;VALUE=DURATION:PT1H
X-Robots-Tag:noindex
X-PUBLISHED-TTL:PT1H
BEGIN:VTIMEZONE
TZID:Europe/London
BEGIN:DAYLIGHT
TZOFFSETFROM:+0000
TZOFFSETTO:+0100
TZNAME:BST
DTSTART:20200329T010000
END:DAYLIGHT
BEGIN:STANDARD
TZOFFSETFROM:+0100
TZOFFSETTO:+0000
TZNAME:GMT
DTSTART:20201025T010000
END:STANDARD
END:VTIMEZONE
BEGIN:VEVENT
DTSTART;TZID=Europe/London:20200128T110000
DTEND;TZID=Europe/London:20200128T130000
DTSTAMP:20260424T121546
CREATED:20200122T083721Z
LAST-MODIFIED:20200124T085254Z
UID:3420-1580209200-1580216400@www.rotherhamfederation.org
SUMMARY:Get Connected with Digital Dan
DESCRIPTION:Our Digital Officer Dan will be available to help you work your device or teach you how to access the internet and the benefits it can bring.  Bring your phone\, laptop or tablet to the session and Dan can help or borrow one of ours.  Join us at Hepworth Drive Neighbourhood centre from 11am \nEveryone is welcome to attend
URL:https://www.rotherhamfederation.org/event/get-connected-with-digital-dan/
LOCATION:Hepworth Drive Community Centre\, Hepworth Drive\, Sheffield\, S26 4NA
END:VEVENT
BEGIN:VEVENT
DTSTART;TZID=Europe/London:20200128T140000
DTEND;TZID=Europe/London:20200128T160000
DTSTAMP:20260424T121546
CREATED:20200116T142527Z
LAST-MODIFIED:20200116T142527Z
UID:3356-1580220000-1580227200@www.rotherhamfederation.org
SUMMARY:Help with Devices/Getting Online
DESCRIPTION:Join our Digital worker #DigitalDan at Heighton View Community Centre\nDigital Dan will be at the centre every week to support people to use devices/show basics/benefits of being online. If you are struggling to use your device or can’t get online – come on down for a cuppa and Digital Dan may be able to help
URL:https://www.rotherhamfederation.org/event/help-with-devices-getting-online/
LOCATION:South Yorkshire
END:VEVENT
END:VCALENDAR