BEGIN:VCALENDAR
VERSION:2.0
PRODID:-//Rotherham Federation - ECPv6.6.3//NONSGML v1.0//EN
CALSCALE:GREGORIAN
METHOD:PUBLISH
X-WR-CALNAME:Rotherham Federation
X-ORIGINAL-URL:https://www.rotherhamfederation.org
X-WR-CALDESC:Events for Rotherham Federation
REFRESH-INTERVAL;VALUE=DURATION:PT1H
X-Robots-Tag:noindex
X-PUBLISHED-TTL:PT1H
BEGIN:VTIMEZONE
TZID:Europe/London
BEGIN:DAYLIGHT
TZOFFSETFROM:+0000
TZOFFSETTO:+0100
TZNAME:BST
DTSTART:20200329T010000
END:DAYLIGHT
BEGIN:STANDARD
TZOFFSETFROM:+0100
TZOFFSETTO:+0000
TZNAME:GMT
DTSTART:20201025T010000
END:STANDARD
END:VTIMEZONE
BEGIN:VEVENT
DTSTART;TZID=Europe/London:20200121T140000
DTEND;TZID=Europe/London:20200121T160000
DTSTAMP:20260424T153830
CREATED:20200116T142417Z
LAST-MODIFIED:20200116T142417Z
UID:3353-1579615200-1579622400@www.rotherhamfederation.org
SUMMARY:Help with Devices/Accessing the Internet
DESCRIPTION:Join our Digital worker #DigitalDan at Heighton View Community Centre \nDigital Dan will be at the centre every week to support people to use devices/show basics/benefits of being online.  If you are struggling to use your device or can’t get online  – come on down for a cuppa and Digital Dan may be able to help
URL:https://www.rotherhamfederation.org/event/help-with-devices-accessing-the-internet/
LOCATION:Heighton View Community Centre\, Heighton View\, Aughton\, South Yorkshire\, S26 3NT\, United Kingdom
END:VEVENT
END:VCALENDAR