BEGIN:VCALENDAR
VERSION:2.0
PRODID:-//Rotherham Federation - ECPv6.6.3//NONSGML v1.0//EN
CALSCALE:GREGORIAN
METHOD:PUBLISH
X-WR-CALNAME:Rotherham Federation
X-ORIGINAL-URL:https://www.rotherhamfederation.org
X-WR-CALDESC:Events for Rotherham Federation
REFRESH-INTERVAL;VALUE=DURATION:PT1H
X-Robots-Tag:noindex
X-PUBLISHED-TTL:PT1H
BEGIN:VTIMEZONE
TZID:Europe/London
BEGIN:DAYLIGHT
TZOFFSETFROM:+0000
TZOFFSETTO:+0100
TZNAME:BST
DTSTART:20190331T010000
END:DAYLIGHT
BEGIN:STANDARD
TZOFFSETFROM:+0100
TZOFFSETTO:+0000
TZNAME:GMT
DTSTART:20191027T010000
END:STANDARD
END:VTIMEZONE
BEGIN:VEVENT
DTSTART;TZID=Europe/London:20191130T100000
DTEND;TZID=Europe/London:20191130T110000
DTSTAMP:20260424T163940
CREATED:20191029T150637Z
LAST-MODIFIED:20191029T150637Z
UID:2761-1575108000-1575111600@www.rotherhamfederation.org
SUMMARY:Dinnington Junior Boxing Fitness
DESCRIPTION:Junior Boxing fitness will take place every Saturday in November and December\, 10am – 11am. \nFree Entry. \nPlaces must be booked\, contact dcrobinson95@outlook.com to book your place
URL:https://www.rotherhamfederation.org/event/dinnington-junior-boxing-fitness-5/
LOCATION:High Nook Community Centre
END:VEVENT
BEGIN:VEVENT
DTSTART;TZID=Europe/London:20191130T110000
DTEND;TZID=Europe/London:20191130T123000
DTSTAMP:20260424T163940
CREATED:20191121T115915Z
LAST-MODIFIED:20191121T115915Z
UID:2794-1575111600-1575117000@www.rotherhamfederation.org
SUMMARY:Festival of Trees at St James Church
DESCRIPTION:Come to St James Church for a day of festivities on Saturday the 30th of November. There will be a brass band\, choir\, and crafts. With stalls full of wonderous gifts\, and of course Santa! \nThe countdown to Christmas will start by lighting the Christmas trees at 11am. This will also signify the beginning of the Festival of Trees! \nThe Church will be open every Saturday and Sunday (12:00 – 15:00) through to Christmas for you to come and view the beautiful collection of trees all decorated by local charities\, groups\, businesses and schools!
URL:https://www.rotherhamfederation.org/event/festival-of-trees-at-st-james-church/
LOCATION:St James Church\, Cambridge Street\, Rotherham\, S65 2SX
END:VEVENT
BEGIN:VEVENT
DTSTART;TZID=Europe/London:20191130T110000
DTEND;TZID=Europe/London:20191130T160000
DTSTAMP:20260424T163940
CREATED:20191016T141512Z
LAST-MODIFIED:20191016T141512Z
UID:2610-1575111600-1575129600@www.rotherhamfederation.org
SUMMARY:Springwell Gardens Christmas Fair
DESCRIPTION:Springwell Gardens are hosting a Christmas Fair on Saturday 30th November 2019 11am while 4pm. \nTo book a stall please call 07341 277377 – stall holders to arrive at 10am \n \n 
URL:https://www.rotherhamfederation.org/event/springwell-gardens-christmas-fair/
LOCATION:South Yorkshire
END:VEVENT
END:VCALENDAR