BEGIN:VCALENDAR
VERSION:2.0
PRODID:-//Rotherham Federation - ECPv6.6.3//NONSGML v1.0//EN
CALSCALE:GREGORIAN
METHOD:PUBLISH
X-WR-CALNAME:Rotherham Federation
X-ORIGINAL-URL:https://www.rotherhamfederation.org
X-WR-CALDESC:Events for Rotherham Federation
REFRESH-INTERVAL;VALUE=DURATION:PT1H
X-Robots-Tag:noindex
X-PUBLISHED-TTL:PT1H
BEGIN:VTIMEZONE
TZID:Europe/London
BEGIN:DAYLIGHT
TZOFFSETFROM:+0000
TZOFFSETTO:+0100
TZNAME:BST
DTSTART:20190331T010000
END:DAYLIGHT
BEGIN:STANDARD
TZOFFSETFROM:+0100
TZOFFSETTO:+0000
TZNAME:GMT
DTSTART:20191027T010000
END:STANDARD
END:VTIMEZONE
BEGIN:VEVENT
DTSTART;TZID=Europe/London:20191127T160000
DTEND;TZID=Europe/London:20191127T190000
DTSTAMP:20260424T170456
CREATED:20190627T081927Z
LAST-MODIFIED:20190627T081927Z
UID:2318-1574870400-1574881200@www.rotherhamfederation.org
SUMMARY:Nutty Crafters - Crafts Session
DESCRIPTION:The Nutty Crafters group will be holding their craft sessions EVERY Wednesday 4pm – 7pm. \nThere is a £2 charge per person per session which includes refreshments.
URL:https://www.rotherhamfederation.org/event/nutty-crafters-crafts-session-18/
LOCATION:Glencairn Community Centre\, S66 7SQ
END:VEVENT
END:VCALENDAR