BEGIN:VCALENDAR
VERSION:2.0
PRODID:-//Rotherham Federation - ECPv6.6.3//NONSGML v1.0//EN
CALSCALE:GREGORIAN
METHOD:PUBLISH
X-ORIGINAL-URL:https://www.rotherhamfederation.org
X-WR-CALDESC:Events for Rotherham Federation
REFRESH-INTERVAL;VALUE=DURATION:PT1H
X-Robots-Tag:noindex
X-PUBLISHED-TTL:PT1H
BEGIN:VTIMEZONE
TZID:Europe/London
BEGIN:DAYLIGHT
TZOFFSETFROM:+0000
TZOFFSETTO:+0100
TZNAME:BST
DTSTART:20190331T010000
END:DAYLIGHT
BEGIN:STANDARD
TZOFFSETFROM:+0100
TZOFFSETTO:+0000
TZNAME:GMT
DTSTART:20191027T010000
END:STANDARD
END:VTIMEZONE
BEGIN:VEVENT
DTSTART;TZID=Europe/London:20191030T160000
DTEND;TZID=Europe/London:20191030T190000
DTSTAMP:20260424T181501
CREATED:20190627T081413Z
LAST-MODIFIED:20190627T081413Z
UID:2310-1572451200-1572462000@www.rotherhamfederation.org
SUMMARY:Nutty Crafters - Crafts Session
DESCRIPTION:The Nutty Crafters group will be holding their craft sessions EVERY Wednesday 4pm – 7pm. \nThere is a £2 charge per person per session which includes refreshments.
URL:https://www.rotherhamfederation.org/event/nutty-crafters-crafts-session-16/
LOCATION:Glencairn Community Centre\, S66 7SQ
END:VEVENT
BEGIN:VEVENT
DTSTART;TZID=Europe/London:20191030T170000
DTEND;TZID=Europe/London:20191030T180000
DTSTAMP:20260424T181501
CREATED:20191025T141722Z
LAST-MODIFIED:20191025T141722Z
UID:2742-1572454800-1572458400@www.rotherhamfederation.org
SUMMARY:Henley Halloween Party
DESCRIPTION:
URL:https://www.rotherhamfederation.org/event/henley-halloween-party/
LOCATION:Henley Community Centre\, Oates Close\, Rotherham\, South Yorkshire\, S61 1TP\, United Kingdom
END:VEVENT
END:VCALENDAR