BEGIN:VCALENDAR
VERSION:2.0
PRODID:-//Rotherham Federation - ECPv6.6.3//NONSGML v1.0//EN
CALSCALE:GREGORIAN
METHOD:PUBLISH
X-ORIGINAL-URL:https://www.rotherhamfederation.org
X-WR-CALDESC:Events for Rotherham Federation
REFRESH-INTERVAL;VALUE=DURATION:PT1H
X-Robots-Tag:noindex
X-PUBLISHED-TTL:PT1H
BEGIN:VTIMEZONE
TZID:Europe/London
BEGIN:DAYLIGHT
TZOFFSETFROM:+0000
TZOFFSETTO:+0100
TZNAME:BST
DTSTART:20190331T010000
END:DAYLIGHT
BEGIN:STANDARD
TZOFFSETFROM:+0100
TZOFFSETTO:+0000
TZNAME:GMT
DTSTART:20191027T010000
END:STANDARD
END:VTIMEZONE
BEGIN:VEVENT
DTSTART;TZID=Europe/London:20191019T100000
DTEND;TZID=Europe/London:20191019T130000
DTSTAMP:20260424T224656
CREATED:20191016T134519Z
LAST-MODIFIED:20191016T134519Z
UID:2599-1571479200-1571490000@www.rotherhamfederation.org
SUMMARY:Community Open Day for Shiloh
DESCRIPTION:A free community event to help showcase the great work Shiloh do.  Come alone\, find out more and get involved. \nBBQ\, Building Tours and Defibrillator Training.  Find out about volunteer opportunities
URL:https://www.rotherhamfederation.org/event/community-open-day-for-shiloh/
LOCATION:15 Station Road\, 15 Station Road\, Rotherham\, S60 1HN\, United Kingdom
END:VEVENT
END:VCALENDAR