BEGIN:VCALENDAR
VERSION:2.0
PRODID:-//Rotherham Federation - ECPv6.6.3//NONSGML v1.0//EN
CALSCALE:GREGORIAN
METHOD:PUBLISH
X-ORIGINAL-URL:https://www.rotherhamfederation.org
X-WR-CALDESC:Events for Rotherham Federation
REFRESH-INTERVAL;VALUE=DURATION:PT1H
X-Robots-Tag:noindex
X-PUBLISHED-TTL:PT1H
BEGIN:VTIMEZONE
TZID:Europe/London
BEGIN:DAYLIGHT
TZOFFSETFROM:+0000
TZOFFSETTO:+0100
TZNAME:BST
DTSTART:20190331T010000
END:DAYLIGHT
BEGIN:STANDARD
TZOFFSETFROM:+0100
TZOFFSETTO:+0000
TZNAME:GMT
DTSTART:20191027T010000
END:STANDARD
END:VTIMEZONE
BEGIN:VEVENT
DTSTART;TZID=Europe/London:20190829T100000
DTEND;TZID=Europe/London:20190829T150000
DTSTAMP:20260424T224628
CREATED:20190730T110836Z
LAST-MODIFIED:20190730T110836Z
UID:2407-1567072800-1567090800@www.rotherhamfederation.org
SUMMARY:Cemetery Clean Up
DESCRIPTION:Calling for volunteers to come and help with Creswick Road Cemetery Clean up on 29th and 30th August 2019.  10am – 3pm. \nPlease bring gloves\, rakes\, petrol strimmer\, petrol mowers\, loppers and hand trowels \nIf interested please email penny.thompson@rotherfed.org \nThe cemetery comprised a mixture of private families and war hero’s graves   
URL:https://www.rotherhamfederation.org/event/cemetery-clean-up/
LOCATION:Dalton Holy Trinity New Church\, Creswick Road\, Rotherham
END:VEVENT
END:VCALENDAR