BEGIN:VCALENDAR
VERSION:2.0
PRODID:-//Rotherham Federation - ECPv6.6.3//NONSGML v1.0//EN
CALSCALE:GREGORIAN
METHOD:PUBLISH
X-ORIGINAL-URL:https://www.rotherhamfederation.org
X-WR-CALDESC:Events for Rotherham Federation
REFRESH-INTERVAL;VALUE=DURATION:PT1H
X-Robots-Tag:noindex
X-PUBLISHED-TTL:PT1H
BEGIN:VTIMEZONE
TZID:Europe/London
BEGIN:DAYLIGHT
TZOFFSETFROM:+0000
TZOFFSETTO:+0100
TZNAME:BST
DTSTART:20190331T010000
END:DAYLIGHT
BEGIN:STANDARD
TZOFFSETFROM:+0100
TZOFFSETTO:+0000
TZNAME:GMT
DTSTART:20191027T010000
END:STANDARD
END:VTIMEZONE
BEGIN:VEVENT
DTSTART;TZID=Europe/London:20190823T100000
DTEND;TZID=Europe/London:20190823T110000
DTSTAMP:20260425T002829
CREATED:20190816T100610Z
LAST-MODIFIED:20190816T100610Z
UID:2452-1566554400-1566558000@www.rotherhamfederation.org
SUMMARY:Canklow Kidz Breakfast Club
DESCRIPTION:For more information check out Canklow Kidz Facebook page here 
URL:https://www.rotherhamfederation.org/event/canklow-kidz-breakfast-club-4/
LOCATION:The Pavilion\, Canklow Road
END:VEVENT
BEGIN:VEVENT
DTSTART;TZID=Europe/London:20190823T100000
DTEND;TZID=Europe/London:20190823T150000
DTSTAMP:20260425T002829
CREATED:20190621T102439Z
LAST-MODIFIED:20190621T104530Z
UID:2225-1566554400-1566572400@www.rotherhamfederation.org
SUMMARY:Rotherham Deaf Futures - Deaf Social
DESCRIPTION:Rotherham Deaf Futures are holding their Deaf Social sessions on Fridays at Springwell Gardens Community Centre\, 10am – 3pm.
URL:https://www.rotherhamfederation.org/event/rotherham-deaf-futures-deaf-social-9/
LOCATION:Springwell Gardens Community Centre\, Eastwood View\, Rotherham\, South Yorkshire\, S65 1NH\, United Kingdom
END:VEVENT
END:VCALENDAR