BEGIN:VCALENDAR
VERSION:2.0
PRODID:-//Rotherham Federation - ECPv6.6.3//NONSGML v1.0//EN
CALSCALE:GREGORIAN
METHOD:PUBLISH
X-WR-CALNAME:Rotherham Federation
X-ORIGINAL-URL:https://www.rotherhamfederation.org
X-WR-CALDESC:Events for Rotherham Federation
REFRESH-INTERVAL;VALUE=DURATION:PT1H
X-Robots-Tag:noindex
X-PUBLISHED-TTL:PT1H
BEGIN:VTIMEZONE
TZID:Europe/London
BEGIN:DAYLIGHT
TZOFFSETFROM:+0000
TZOFFSETTO:+0100
TZNAME:BST
DTSTART:20190331T010000
END:DAYLIGHT
BEGIN:STANDARD
TZOFFSETFROM:+0100
TZOFFSETTO:+0000
TZNAME:GMT
DTSTART:20191027T010000
END:STANDARD
END:VTIMEZONE
BEGIN:VEVENT
DTSTART;TZID=Europe/London:20190821T100000
DTEND;TZID=Europe/London:20190821T110000
DTSTAMP:20260425T002747
CREATED:20190816T100115Z
LAST-MODIFIED:20190816T100115Z
UID:2448-1566381600-1566385200@www.rotherhamfederation.org
SUMMARY:Canklow Kidz Breakfast Club
DESCRIPTION:For more information check out Canklow Kidz Facebook page here
URL:https://www.rotherhamfederation.org/event/canklow-kidz-breakfast-club-2/
LOCATION:The Pavilion\, Canklow Road
END:VEVENT
BEGIN:VEVENT
DTSTART;TZID=Europe/London:20190821T110000
DTEND;TZID=Europe/London:20190821T150000
DTSTAMP:20260425T002747
CREATED:20190730T112848Z
LAST-MODIFIED:20190730T112848Z
UID:2427-1566385200-1566399600@www.rotherhamfederation.org
SUMMARY:Ferham Festival
DESCRIPTION:
URL:https://www.rotherhamfederation.org/event/ferham-festival/
LOCATION:South Yorkshire
END:VEVENT
BEGIN:VEVENT
DTSTART;TZID=Europe/London:20190821T160000
DTEND;TZID=Europe/London:20190821T190000
DTSTAMP:20260425T002747
CREATED:20190626T133141Z
LAST-MODIFIED:20190626T133141Z
UID:2288-1566403200-1566414000@www.rotherhamfederation.org
SUMMARY:Nutty Crafters - Crafts Session
DESCRIPTION:The Nutty Crafters group will be holding their craft sessions EVERY Wednesday 4pm – 7pm. \nThere is a £2 charge per person per session which includes refreshments.
URL:https://www.rotherhamfederation.org/event/nutty-crafters-crafts-session-7/
LOCATION:Glencairn Community Centre\, S66 7SQ
END:VEVENT
END:VCALENDAR