BEGIN:VCALENDAR
VERSION:2.0
PRODID:-//Rotherham Federation - ECPv6.6.3//NONSGML v1.0//EN
CALSCALE:GREGORIAN
METHOD:PUBLISH
X-ORIGINAL-URL:https://www.rotherhamfederation.org
X-WR-CALDESC:Events for Rotherham Federation
REFRESH-INTERVAL;VALUE=DURATION:PT1H
X-Robots-Tag:noindex
X-PUBLISHED-TTL:PT1H
BEGIN:VTIMEZONE
TZID:Europe/London
BEGIN:DAYLIGHT
TZOFFSETFROM:+0000
TZOFFSETTO:+0100
TZNAME:BST
DTSTART:20190331T010000
END:DAYLIGHT
BEGIN:STANDARD
TZOFFSETFROM:+0100
TZOFFSETTO:+0000
TZNAME:GMT
DTSTART:20191027T010000
END:STANDARD
END:VTIMEZONE
BEGIN:VEVENT
DTSTART;TZID=Europe/London:20190801T110000
DTEND;TZID=Europe/London:20190801T130000
DTSTAMP:20260425T002830
CREATED:20190730T112726Z
LAST-MODIFIED:20190730T112726Z
UID:2423-1564657200-1564664400@www.rotherhamfederation.org
SUMMARY:East Herringthorpe Litter Pick
DESCRIPTION:A community led litter pick in East Herringthorpe on Thursday 1st August 2019.  11am while 1pm.  Meet us outside High Greave School Gate on Lausdale Road.  All equipment and refreshments provided.  A chance to meet other like minded people and your local community organiser.  Everybody welcome.  Children must be accompanied by an adult \nBe it big or small\, your actions matter!
URL:https://www.rotherhamfederation.org/event/east-herringthorpe-litter-pick/
LOCATION:Lausdale Road\, Herringthorpe
END:VEVENT
END:VCALENDAR