BEGIN:VCALENDAR
VERSION:2.0
PRODID:-//Rotherham Federation - ECPv6.6.3//NONSGML v1.0//EN
CALSCALE:GREGORIAN
METHOD:PUBLISH
X-WR-CALNAME:Rotherham Federation
X-ORIGINAL-URL:https://www.rotherhamfederation.org
X-WR-CALDESC:Events for Rotherham Federation
REFRESH-INTERVAL;VALUE=DURATION:PT1H
X-Robots-Tag:noindex
X-PUBLISHED-TTL:PT1H
BEGIN:VTIMEZONE
TZID:Europe/London
BEGIN:DAYLIGHT
TZOFFSETFROM:+0000
TZOFFSETTO:+0100
TZNAME:BST
DTSTART:20190331T010000
END:DAYLIGHT
BEGIN:STANDARD
TZOFFSETFROM:+0100
TZOFFSETTO:+0000
TZNAME:GMT
DTSTART:20191027T010000
END:STANDARD
END:VTIMEZONE
BEGIN:VEVENT
DTSTART;TZID=Europe/London:20190710T093000
DTEND;TZID=Europe/London:20190710T140000
DTSTAMP:20260425T020723
CREATED:20190328T123918Z
LAST-MODIFIED:20190410T125224Z
UID:1691-1562751000-1562767200@www.rotherhamfederation.org
SUMMARY:RMBC Tenants Open Day @ New York Stadium
DESCRIPTION:Tenants Open Day at New York Stadium – Wednesday 10th July 9.30am to 2pm \nThe open day is your chance to find out more about what’s happening in housing services\, meet other tenants\, and put your questions to member of staff face-to-face. \nThe day also includes workshops and stalls\, Rotherham Federation awards ceremony\, Mayors Charity Raffle and a free Pie ‘n’ Pea lunch \nBooking is essential to the event – to book please call RMBC 01709 822100 \n \n \nClick here to open your invitation
URL:https://www.rotherhamfederation.org/event/tenants-open-day-new-york-stadium/
LOCATION:AESSEAL New York Stadium\, New York Way\, Rotherham\, S60 1FJ
END:VEVENT
BEGIN:VEVENT
DTSTART;TZID=Europe/London:20190710T160000
DTEND;TZID=Europe/London:20190710T190000
DTSTAMP:20260425T020723
CREATED:20190626T132435Z
LAST-MODIFIED:20190626T132449Z
UID:2275-1562774400-1562785200@www.rotherhamfederation.org
SUMMARY:Nutty Crafters - Craft Session
DESCRIPTION:The Nutty Crafters group will be holding their craft sessions EVERY Wednesday 4pm – 7pm. \nThere is a £2 charge per person per session which includes refreshments.
URL:https://www.rotherhamfederation.org/event/nutty-crafters-craft-session/
LOCATION:Glencairn Community Centre\, S66 7SQ
END:VEVENT
END:VCALENDAR