BEGIN:VCALENDAR
VERSION:2.0
PRODID:-//Rotherham Federation - ECPv6.6.3//NONSGML v1.0//EN
CALSCALE:GREGORIAN
METHOD:PUBLISH
X-WR-CALNAME:Rotherham Federation
X-ORIGINAL-URL:https://www.rotherhamfederation.org
X-WR-CALDESC:Events for Rotherham Federation
REFRESH-INTERVAL;VALUE=DURATION:PT1H
X-Robots-Tag:noindex
X-PUBLISHED-TTL:PT1H
BEGIN:VTIMEZONE
TZID:Europe/London
BEGIN:DAYLIGHT
TZOFFSETFROM:+0000
TZOFFSETTO:+0100
TZNAME:BST
DTSTART:20190331T010000
END:DAYLIGHT
BEGIN:STANDARD
TZOFFSETFROM:+0100
TZOFFSETTO:+0000
TZNAME:GMT
DTSTART:20191027T010000
END:STANDARD
END:VTIMEZONE
BEGIN:VEVENT
DTSTART;TZID=Europe/London:20190627T093000
DTEND;TZID=Europe/London:20190627T160000
DTSTAMP:20260425T033247
CREATED:20190612T102247Z
LAST-MODIFIED:20190612T102247Z
UID:2110-1561627800-1561651200@www.rotherhamfederation.org
SUMMARY:Training - Build Power Through Community Organising
DESCRIPTION:Training for Building Power Through Community Organising (QA) – \, Quality Assured is 15 learning Credits and Accredited certificates is 45 learning credits\, all courses are approved by external markers ABC and Certa.\nTraining must be booked via our Community Organiser Penny Thompson. To contact Penny please call 07813 543332/01709 368515 or email penny.thompson@rotherfed.org\nFree lunch and refreshments will be provided on the day\nThe Quality Assured course require a minimum of 6 hours of attendance. You then have the opportunity to partake in accredited courses at NVQ Level 2 & 3
URL:https://www.rotherhamfederation.org/event/training-build-power-through-community-organising/
LOCATION:Springwell Gardens Community Centre\, Eastwood View\, Rotherham\, South Yorkshire\, S65 1NH\, United Kingdom
END:VEVENT
END:VCALENDAR