BEGIN:VCALENDAR
VERSION:2.0
PRODID:-//Rotherham Federation - ECPv6.6.3//NONSGML v1.0//EN
CALSCALE:GREGORIAN
METHOD:PUBLISH
X-WR-CALNAME:Rotherham Federation
X-ORIGINAL-URL:https://www.rotherhamfederation.org
X-WR-CALDESC:Events for Rotherham Federation
REFRESH-INTERVAL;VALUE=DURATION:PT1H
X-Robots-Tag:noindex
X-PUBLISHED-TTL:PT1H
BEGIN:VTIMEZONE
TZID:Europe/London
BEGIN:DAYLIGHT
TZOFFSETFROM:+0000
TZOFFSETTO:+0100
TZNAME:BST
DTSTART:20190331T010000
END:DAYLIGHT
BEGIN:STANDARD
TZOFFSETFROM:+0100
TZOFFSETTO:+0000
TZNAME:GMT
DTSTART:20191027T010000
END:STANDARD
END:VTIMEZONE
BEGIN:VEVENT
DTSTART;TZID=Europe/London:20190622T120000
DTEND;TZID=Europe/London:20190622T150000
DTSTAMP:20260425T033156
CREATED:20190612T103510Z
LAST-MODIFIED:20190612T110159Z
UID:2120-1561204800-1561215600@www.rotherhamfederation.org
SUMMARY:Eastwood Fun Fest
DESCRIPTION:Eastwood Fun Fest will be held again on Eldon Road Playing Fields \nThis year will have a Carnival Parade theme with a Live Samba Band at 12.15pm \nFood\, games\, stalls\, face painting and lots more
URL:https://www.rotherhamfederation.org/event/eastwood-fun-fest/
LOCATION:Eldon Road Playing Fields\, Off Erskine Road\, Rotherham\, United Kingdom
END:VEVENT
END:VCALENDAR