BEGIN:VCALENDAR
VERSION:2.0
PRODID:-//Rotherham Federation - ECPv6.6.3//NONSGML v1.0//EN
CALSCALE:GREGORIAN
METHOD:PUBLISH
X-WR-CALNAME:Rotherham Federation
X-ORIGINAL-URL:https://www.rotherhamfederation.org
X-WR-CALDESC:Events for Rotherham Federation
REFRESH-INTERVAL;VALUE=DURATION:PT1H
X-Robots-Tag:noindex
X-PUBLISHED-TTL:PT1H
BEGIN:VTIMEZONE
TZID:Europe/London
BEGIN:DAYLIGHT
TZOFFSETFROM:+0000
TZOFFSETTO:+0100
TZNAME:BST
DTSTART:20180325T010000
END:DAYLIGHT
BEGIN:STANDARD
TZOFFSETFROM:+0100
TZOFFSETTO:+0000
TZNAME:GMT
DTSTART:20181028T010000
END:STANDARD
END:VTIMEZONE
BEGIN:VEVENT
DTSTART;TZID=Europe/London:20181129T100000
DTEND;TZID=Europe/London:20181129T120000
DTSTAMP:20260425T153912
CREATED:20180117T135017Z
LAST-MODIFIED:20181111T113912Z
UID:467-1543485600-1543492800@www.rotherhamfederation.org
SUMMARY:Open Board Meeting
DESCRIPTION:The Rotherham Federation open board meeting will discuss the future of area housing panels. \nThe meeting is open to all. \n\n\nhttps://www.rotherhamfederation.org/wp-content/uploads/2018/11/ahps.mp4
URL:https://www.rotherhamfederation.org/event/open-board-meeting-4/
LOCATION:Springwell Gardens Community Centre\, Eastwood View\, Rotherham\, South Yorkshire\, S65 1NH\, United Kingdom
ATTACH;FMTTYPE=image/jpeg:https://www.rotherhamfederation.org/wp-content/uploads/2018/01/Rotherham-Federation-Board-Meeting-29112018.jpg
ORGANIZER;CN="Steve Ruffle":MAILTO:steve.ruffle@rotherfed.org
END:VEVENT
END:VCALENDAR