BEGIN:VCALENDAR
VERSION:2.0
PRODID:-//Rotherham Federation - ECPv6.6.3//NONSGML v1.0//EN
CALSCALE:GREGORIAN
METHOD:PUBLISH
X-ORIGINAL-URL:https://www.rotherhamfederation.org
X-WR-CALDESC:Events for Rotherham Federation
REFRESH-INTERVAL;VALUE=DURATION:PT1H
X-Robots-Tag:noindex
X-PUBLISHED-TTL:PT1H
BEGIN:VTIMEZONE
TZID:Europe/London
BEGIN:DAYLIGHT
TZOFFSETFROM:+0000
TZOFFSETTO:+0100
TZNAME:BST
DTSTART:20180325T010000
END:DAYLIGHT
BEGIN:STANDARD
TZOFFSETFROM:+0100
TZOFFSETTO:+0000
TZNAME:GMT
DTSTART:20181028T010000
END:STANDARD
END:VTIMEZONE
BEGIN:VEVENT
DTSTART;TZID=Europe/London:20180710T100000
DTEND;TZID=Europe/London:20180710T120000
DTSTAMP:20260425T232249
CREATED:20180708T063450Z
LAST-MODIFIED:20180708T063450Z
UID:901-1531216800-1531224000@www.rotherhamfederation.org
SUMMARY:Rotherham Digital Inclusion Networ
DESCRIPTION:Everyone is welcome to this open meeting at Springwell Gardens Community Centre. \nAgenda  \nThe network is a group of volunteers and staff working and supporting people to get online.
URL:https://www.rotherhamfederation.org/event/rotherham-digital-inclusion-networ/
LOCATION:Springwell Gardens Community Centre\, Eastwood View\, Rotherham\, South Yorkshire\, S65 1NH\, United Kingdom
ATTACH;FMTTYPE=image/jpeg:https://www.rotherhamfederation.org/wp-content/uploads/2018/07/digital-champions2.jpg
END:VEVENT
BEGIN:VEVENT
DTSTART;TZID=Europe/London:20180710T100000
DTEND;TZID=Europe/London:20180710T130000
DTSTAMP:20260425T232249
CREATED:20180603T083650Z
LAST-MODIFIED:20180612T124524Z
UID:868-1531216800-1531227600@www.rotherhamfederation.org
SUMMARY:Benefits Advice
DESCRIPTION:Free Benefits advice every week in partnership with Barnsley DIAL
URL:https://www.rotherhamfederation.org/event/benefits-advice/
LOCATION:Springwell Gardens Community Centre\, Eastwood View\, Rotherham\, South Yorkshire\, S65 1NH\, United Kingdom
ATTACH;FMTTYPE=image/jpeg:https://www.rotherhamfederation.org/wp-content/uploads/2018/06/advice.jpg
ORGANIZER;CN="Steve Ruffle":MAILTO:steve.ruffle@rotherfed.org
END:VEVENT
END:VCALENDAR