BEGIN:VCALENDAR
VERSION:2.0
PRODID:-//Rotherham Federation - ECPv6.6.3//NONSGML v1.0//EN
CALSCALE:GREGORIAN
METHOD:PUBLISH
X-WR-CALNAME:Rotherham Federation
X-ORIGINAL-URL:https://www.rotherhamfederation.org
X-WR-CALDESC:Events for Rotherham Federation
REFRESH-INTERVAL;VALUE=DURATION:PT1H
X-Robots-Tag:noindex
X-PUBLISHED-TTL:PT1H
BEGIN:VTIMEZONE
TZID:Europe/London
BEGIN:DAYLIGHT
TZOFFSETFROM:+0000
TZOFFSETTO:+0100
TZNAME:BST
DTSTART:20180325T010000
END:DAYLIGHT
BEGIN:STANDARD
TZOFFSETFROM:+0100
TZOFFSETTO:+0000
TZNAME:GMT
DTSTART:20181028T010000
END:STANDARD
END:VTIMEZONE
BEGIN:VEVENT
DTSTART;TZID=Europe/London:20180425T130000
DTEND;TZID=Europe/London:20180425T150000
DTSTAMP:20260426T041200
CREATED:20180330T091047Z
LAST-MODIFIED:20180330T091047Z
UID:722-1524661200-1524668400@www.rotherhamfederation.org
SUMMARY:Running Your Group
DESCRIPTION:At the session at Springwell Gardens Community Centre\, Running Your Group on Wednesday 25th April  2018\, you will find out about getting organised\, arranging your meetings\, activities and putting in place your group aims. The Session is taught by Steve Ruffle and Vickie Hobson. \n \nBook here
URL:https://www.rotherhamfederation.org/event/running-your-group/
LOCATION:Springwell Gardens Community Centre\, Eastwood View\, Rotherham\, South Yorkshire\, S65 1NH\, United Kingdom
ORGANIZER;CN="Steve Ruffle":MAILTO:steve.ruffle@rotherfed.org
END:VEVENT
END:VCALENDAR